BEGIN:VCALENDAR
VERSION:2.0
PRODID:-//Trinity Lutheran Church of Davison, MI - ECPv6.15.20//NONSGML v1.0//EN
CALSCALE:GREGORIAN
METHOD:PUBLISH
X-ORIGINAL-URL:https://trinitydavison.org
X-WR-CALDESC:Events for Trinity Lutheran Church of Davison, MI
REFRESH-INTERVAL;VALUE=DURATION:PT1H
X-Robots-Tag:noindex
X-PUBLISHED-TTL:PT1H
BEGIN:VTIMEZONE
TZID:America/Detroit
BEGIN:DAYLIGHT
TZOFFSETFROM:-0500
TZOFFSETTO:-0400
TZNAME:EDT
DTSTART:20230312T070000
END:DAYLIGHT
BEGIN:STANDARD
TZOFFSETFROM:-0400
TZOFFSETTO:-0500
TZNAME:EST
DTSTART:20231105T060000
END:STANDARD
BEGIN:DAYLIGHT
TZOFFSETFROM:-0500
TZOFFSETTO:-0400
TZNAME:EDT
DTSTART:20240310T070000
END:DAYLIGHT
BEGIN:STANDARD
TZOFFSETFROM:-0400
TZOFFSETTO:-0500
TZNAME:EST
DTSTART:20241103T060000
END:STANDARD
BEGIN:DAYLIGHT
TZOFFSETFROM:-0500
TZOFFSETTO:-0400
TZNAME:EDT
DTSTART:20250309T070000
END:DAYLIGHT
BEGIN:STANDARD
TZOFFSETFROM:-0400
TZOFFSETTO:-0500
TZNAME:EST
DTSTART:20251102T060000
END:STANDARD
END:VTIMEZONE
BEGIN:VEVENT
DTSTART;TZID=America/Detroit:20241204T090000
DTEND;TZID=America/Detroit:20241204T120000
DTSTAMP:20260421T093621
CREATED:20240325T185643Z
LAST-MODIFIED:20240919T181748Z
UID:10004487-1733302800-1733313600@trinitydavison.org
SUMMARY:Trinity Quilters
DESCRIPTION:
URL:https://trinitydavison.org/event/trinity-quilters-3/2024-12-04/
LOCATION:MI
END:VEVENT
BEGIN:VEVENT
DTSTART;TZID=America/Detroit:20241204T180000
DTEND;TZID=America/Detroit:20241204T185000
DTSTAMP:20260421T093621
CREATED:20241202T160659Z
LAST-MODIFIED:20241202T160708Z
UID:10006389-1733335200-1733338200@trinitydavison.org
SUMMARY:Advent Dinner
DESCRIPTION:
URL:https://trinitydavison.org/event/advent-dinner/2024-12-04/
LOCATION:MI
END:VEVENT
BEGIN:VEVENT
DTSTART;TZID=America/Detroit:20241204T184500
DTEND;TZID=America/Detroit:20241204T190000
DTSTAMP:20260421T093621
CREATED:20241202T155445Z
LAST-MODIFIED:20241202T155809Z
UID:10006334-1733337900-1733338800@trinitydavison.org
SUMMARY:Advent Hymn-Sing
DESCRIPTION:
URL:https://trinitydavison.org/event/advent-hymn-sing/2024-12-04/
LOCATION:MI
END:VEVENT
BEGIN:VEVENT
DTSTART;TZID=America/Detroit:20241204T190000
DTEND;TZID=America/Detroit:20241204T200000
DTSTAMP:20260421T093621
CREATED:20241202T155329Z
LAST-MODIFIED:20241202T160017Z
UID:10006279-1733338800-1733342400@trinitydavison.org
SUMMARY:Midweek Advent Worship
DESCRIPTION:
URL:https://trinitydavison.org/event/midweek-advent-worship-7/2024-12-04/
LOCATION:MI
END:VEVENT
END:VCALENDAR