BEGIN:VCALENDAR
VERSION:2.0
PRODID:-//Trinity Lutheran Church of Davison, MI - ECPv6.15.20//NONSGML v1.0//EN
CALSCALE:GREGORIAN
METHOD:PUBLISH
X-ORIGINAL-URL:https://trinitydavison.org
X-WR-CALDESC:Events for Trinity Lutheran Church of Davison, MI
REFRESH-INTERVAL;VALUE=DURATION:PT1H
X-Robots-Tag:noindex
X-PUBLISHED-TTL:PT1H
BEGIN:VTIMEZONE
TZID:America/Detroit
BEGIN:DAYLIGHT
TZOFFSETFROM:-0500
TZOFFSETTO:-0400
TZNAME:EDT
DTSTART:20240310T070000
END:DAYLIGHT
BEGIN:STANDARD
TZOFFSETFROM:-0400
TZOFFSETTO:-0500
TZNAME:EST
DTSTART:20241103T060000
END:STANDARD
BEGIN:DAYLIGHT
TZOFFSETFROM:-0500
TZOFFSETTO:-0400
TZNAME:EDT
DTSTART:20250309T070000
END:DAYLIGHT
BEGIN:STANDARD
TZOFFSETFROM:-0400
TZOFFSETTO:-0500
TZNAME:EST
DTSTART:20251102T060000
END:STANDARD
BEGIN:DAYLIGHT
TZOFFSETFROM:-0500
TZOFFSETTO:-0400
TZNAME:EDT
DTSTART:20260308T070000
END:DAYLIGHT
BEGIN:STANDARD
TZOFFSETFROM:-0400
TZOFFSETTO:-0500
TZNAME:EST
DTSTART:20261101T060000
END:STANDARD
END:VTIMEZONE
BEGIN:VEVENT
DTSTART;TZID=America/Detroit:20251025T083000
DTEND;TZID=America/Detroit:20251025T100000
DTSTAMP:20260421T073729
CREATED:20250823T150832Z
LAST-MODIFIED:20250823T164140Z
UID:10007315-1761381000-1761386400@trinitydavison.org
SUMMARY:Men's Breakfast Fellowship
DESCRIPTION:We look forward to welcoming you to our monthly Men’s Breakfast Fellowship. Men and boys of all ages are welcome to this free event that includes a hearty\, delicious breakfast\, and good conversations with other guys from all walks of life. Each time we meet we will conclude with a reading from the Bible\, a brief devotion\, and a prayer. \n\n\n\nThank you in advance for letting us know you’re coming . . . this helps us make sure we have enough breakfast for everyone  while not wasting good food by making too much).  Thanks again! \n\n\n\nSee you Saturday morning at 8:30 a.m.
URL:https://trinitydavison.org/event/mens-breakfast-fellowship/2025-10-25/
LOCATION:Trinity Lutheran Church\, 706 W Flint St\, Davison\, MI\, 48423\, United States
CATEGORIES:Front Page
ATTACH;FMTTYPE=image/jpeg:https://trinitydavison.org/wp-content/uploads/2025/08/Mens-Breakfast-Generic.jpg
END:VEVENT
END:VCALENDAR