BEGIN:VCALENDAR
VERSION:2.0
PRODID:-//Trinity Lutheran Church of Davison, MI - ECPv6.15.20//NONSGML v1.0//EN
CALSCALE:GREGORIAN
METHOD:PUBLISH
X-ORIGINAL-URL:https://trinitydavison.org
X-WR-CALDESC:Events for Trinity Lutheran Church of Davison, MI
REFRESH-INTERVAL;VALUE=DURATION:PT1H
X-Robots-Tag:noindex
X-PUBLISHED-TTL:PT1H
BEGIN:VTIMEZONE
TZID:America/Detroit
BEGIN:DAYLIGHT
TZOFFSETFROM:-0500
TZOFFSETTO:-0400
TZNAME:EDT
DTSTART:20240310T070000
END:DAYLIGHT
BEGIN:STANDARD
TZOFFSETFROM:-0400
TZOFFSETTO:-0500
TZNAME:EST
DTSTART:20241103T060000
END:STANDARD
BEGIN:DAYLIGHT
TZOFFSETFROM:-0500
TZOFFSETTO:-0400
TZNAME:EDT
DTSTART:20250309T070000
END:DAYLIGHT
BEGIN:STANDARD
TZOFFSETFROM:-0400
TZOFFSETTO:-0500
TZNAME:EST
DTSTART:20251102T060000
END:STANDARD
BEGIN:DAYLIGHT
TZOFFSETFROM:-0500
TZOFFSETTO:-0400
TZNAME:EDT
DTSTART:20260308T070000
END:DAYLIGHT
BEGIN:STANDARD
TZOFFSETFROM:-0400
TZOFFSETTO:-0500
TZNAME:EST
DTSTART:20261101T060000
END:STANDARD
END:VTIMEZONE
BEGIN:VEVENT
DTSTART;TZID=America/Detroit:20251028T180000
DTEND;TZID=America/Detroit:20251028T190000
DTSTAMP:20260421T093704
CREATED:20240919T181250Z
LAST-MODIFIED:20240919T181500Z
UID:10006046-1761674400-1761678000@trinitydavison.org
SUMMARY:Choir Rehearsal
DESCRIPTION:
URL:https://trinitydavison.org/event/choir-rehearsal-2/2025-10-28/
LOCATION:Trinity Lutheran Church\, 706 W Flint St\, Davison\, MI\, 48423\, United States
CATEGORIES:Front Page
ATTACH;FMTTYPE=image/jpeg:https://trinitydavison.org/wp-content/uploads/2023/12/robes_13010bc.jpg
END:VEVENT
BEGIN:VEVENT
DTSTART;TZID=America/Detroit:20251028T190000
DTEND;TZID=America/Detroit:20251028T210000
DTSTAMP:20260421T093704
CREATED:20231220T124213Z
LAST-MODIFIED:20241202T155051Z
UID:10004324-1761678000-1761685200@trinitydavison.org
SUMMARY:Church Council Meeting
DESCRIPTION:
URL:https://trinitydavison.org/event/church-council-meeting-2/2025-10-28/
LOCATION:Trinity Lutheran Church\, 706 W Flint St\, Davison\, MI\, 48423\, United States
ATTACH;FMTTYPE=image/jpeg:https://trinitydavison.org/wp-content/uploads/2020/04/Council-Banner.jpg
END:VEVENT
END:VCALENDAR