BEGIN:VCALENDAR
VERSION:2.0
PRODID:-//Trinity Lutheran Church of Davison, MI - ECPv6.15.20//NONSGML v1.0//EN
CALSCALE:GREGORIAN
METHOD:PUBLISH
X-ORIGINAL-URL:https://trinitydavison.org
X-WR-CALDESC:Events for Trinity Lutheran Church of Davison, MI
REFRESH-INTERVAL;VALUE=DURATION:PT1H
X-Robots-Tag:noindex
X-PUBLISHED-TTL:PT1H
BEGIN:VTIMEZONE
TZID:America/Detroit
BEGIN:DAYLIGHT
TZOFFSETFROM:-0500
TZOFFSETTO:-0400
TZNAME:EDT
DTSTART:20240310T070000
END:DAYLIGHT
BEGIN:STANDARD
TZOFFSETFROM:-0400
TZOFFSETTO:-0500
TZNAME:EST
DTSTART:20241103T060000
END:STANDARD
BEGIN:DAYLIGHT
TZOFFSETFROM:-0500
TZOFFSETTO:-0400
TZNAME:EDT
DTSTART:20250309T070000
END:DAYLIGHT
BEGIN:STANDARD
TZOFFSETFROM:-0400
TZOFFSETTO:-0500
TZNAME:EST
DTSTART:20251102T060000
END:STANDARD
BEGIN:DAYLIGHT
TZOFFSETFROM:-0500
TZOFFSETTO:-0400
TZNAME:EDT
DTSTART:20260308T070000
END:DAYLIGHT
BEGIN:STANDARD
TZOFFSETFROM:-0400
TZOFFSETTO:-0500
TZNAME:EST
DTSTART:20261101T060000
END:STANDARD
END:VTIMEZONE
BEGIN:VEVENT
DTSTART;TZID=America/Detroit:20251130T100000
DTEND;TZID=America/Detroit:20251130T111000
DTSTAMP:20260421T093706
CREATED:20251118T171434Z
LAST-MODIFIED:20251118T171437Z
UID:10007358-1764496800-1764501000@trinitydavison.org
SUMMARY:Worship
DESCRIPTION:We invite you to worship with us. During our time of worship we experience the Lord together through the reading of the Bible\, singing hymns\, prayer\, a sermon based on the teachings of the Bible\, and the celebration of Holy Communion. \n\n\n\nThis Week’s Worship\n\n\n\nSermon Theme:  Sermon Text:  Order of Worship Bulletin: Click Here to downloadProclaimer:   \n\n\n\nLive Stream\n\n\n\nThis service will also be live-streamed on our YouTube channel and on Facebook. \n\n\n\nLinks to our Worship Leader Schedules\n\n\n\nAcolytesEldersLectorsS.A.L.T.Ushers
URL:https://trinitydavison.org/event/worship-15-2-2/2025-11-30/
LOCATION:Trinity Lutheran Church\, 706 W Flint St\, Davison\, MI\, 48423\, United States
CATEGORIES:Front Page,Worship
ATTACH;FMTTYPE=image/jpeg:https://trinitydavison.org/wp-content/uploads/2022/11/Worship-16_9-1.jpg
END:VEVENT
BEGIN:VEVENT
DTSTART;TZID=America/Detroit:20251130T113000
DTEND;TZID=America/Detroit:20251130T133000
DTSTAMP:20260421T093706
CREATED:20251113T165241Z
LAST-MODIFIED:20251118T172310Z
UID:10007949-1764502200-1764509400@trinitydavison.org
SUMMARY:Church Christmas Decorating
DESCRIPTION:
URL:https://trinitydavison.org/event/church-christmas-decorating/
LOCATION:MI
END:VEVENT
END:VCALENDAR