BEGIN:VCALENDAR
VERSION:2.0
PRODID:-//Trinity Lutheran Church of Davison, MI - ECPv6.15.20//NONSGML v1.0//EN
CALSCALE:GREGORIAN
METHOD:PUBLISH
X-ORIGINAL-URL:https://trinitydavison.org
X-WR-CALDESC:Events for Trinity Lutheran Church of Davison, MI
REFRESH-INTERVAL;VALUE=DURATION:PT1H
X-Robots-Tag:noindex
X-PUBLISHED-TTL:PT1H
BEGIN:VTIMEZONE
TZID:America/Detroit
BEGIN:DAYLIGHT
TZOFFSETFROM:-0500
TZOFFSETTO:-0400
TZNAME:EDT
DTSTART:20250309T070000
END:DAYLIGHT
BEGIN:STANDARD
TZOFFSETFROM:-0400
TZOFFSETTO:-0500
TZNAME:EST
DTSTART:20251102T060000
END:STANDARD
BEGIN:DAYLIGHT
TZOFFSETFROM:-0500
TZOFFSETTO:-0400
TZNAME:EDT
DTSTART:20260308T070000
END:DAYLIGHT
BEGIN:STANDARD
TZOFFSETFROM:-0400
TZOFFSETTO:-0500
TZNAME:EST
DTSTART:20261101T060000
END:STANDARD
BEGIN:DAYLIGHT
TZOFFSETFROM:-0500
TZOFFSETTO:-0400
TZNAME:EDT
DTSTART:20270314T070000
END:DAYLIGHT
BEGIN:STANDARD
TZOFFSETFROM:-0400
TZOFFSETTO:-0500
TZNAME:EST
DTSTART:20271107T060000
END:STANDARD
END:VTIMEZONE
BEGIN:VEVENT
DTSTART;TZID=America/Detroit:20260509T083000
DTEND;TZID=America/Detroit:20260509T100000
DTSTAMP:20260421T202913
CREATED:20251217T190035Z
LAST-MODIFIED:20260203T194325Z
UID:10007326-1778315400-1778320800@trinitydavison.org
SUMMARY:Men's Fellowship Breakfast
DESCRIPTION:We look forward to welcoming you to our monthly Men’s Breakfast Fellowship. Men and boys of all ages are welcome to this free event that includes a hearty\, delicious breakfast\, and good conversations with other guys from all walks of life. Each time we meet we will conclude with a reading from the Bible\, a brief devotion\, and a prayer. \n\n\n\nThank you in advance for letting us know you’re coming . . . (this helps us make sure we have enough breakfast for everyone while not wasting good food by making too much). Thanks again! \n\n\n\nSee you Saturday morning at 8:30 a.m.
URL:https://trinitydavison.org/event/mens-breakfast-fellowship-3/2026-05-09/
LOCATION:Trinity Lutheran Church\, 706 W Flint St\, Davison\, MI\, 48423\, United States
END:VEVENT
END:VCALENDAR