BEGIN:VCALENDAR
VERSION:2.0
PRODID:-//Trinity Lutheran Church of Davison, MI - ECPv6.15.20//NONSGML v1.0//EN
CALSCALE:GREGORIAN
METHOD:PUBLISH
X-ORIGINAL-URL:https://trinitydavison.org
X-WR-CALDESC:Events for Trinity Lutheran Church of Davison, MI
REFRESH-INTERVAL;VALUE=DURATION:PT1H
X-Robots-Tag:noindex
X-PUBLISHED-TTL:PT1H
BEGIN:VTIMEZONE
TZID:America/Detroit
BEGIN:DAYLIGHT
TZOFFSETFROM:-0500
TZOFFSETTO:-0400
TZNAME:EDT
DTSTART:20250309T070000
END:DAYLIGHT
BEGIN:STANDARD
TZOFFSETFROM:-0400
TZOFFSETTO:-0500
TZNAME:EST
DTSTART:20251102T060000
END:STANDARD
BEGIN:DAYLIGHT
TZOFFSETFROM:-0500
TZOFFSETTO:-0400
TZNAME:EDT
DTSTART:20260308T070000
END:DAYLIGHT
BEGIN:STANDARD
TZOFFSETFROM:-0400
TZOFFSETTO:-0500
TZNAME:EST
DTSTART:20261101T060000
END:STANDARD
BEGIN:DAYLIGHT
TZOFFSETFROM:-0500
TZOFFSETTO:-0400
TZNAME:EDT
DTSTART:20270314T070000
END:DAYLIGHT
BEGIN:STANDARD
TZOFFSETFROM:-0400
TZOFFSETTO:-0500
TZNAME:EST
DTSTART:20271107T060000
END:STANDARD
END:VTIMEZONE
BEGIN:VEVENT
DTSTART;TZID=America/Detroit:20260519T090000
DTEND;TZID=America/Detroit:20260519T110000
DTSTAMP:20260421T202917
CREATED:20260129T171439Z
LAST-MODIFIED:20260129T174148Z
UID:10000944-1779181200-1779188400@trinitydavison.org
SUMMARY:Work Bee
DESCRIPTION:
URL:https://trinitydavison.org/event/workbee-3/2026-05-19/
LOCATION:Trinity Lutheran Church\, 706 W Flint St\, Davison\, MI\, 48423\, United States
CATEGORIES:Ministry Teams
ATTACH;FMTTYPE=image/jpeg:https://trinitydavison.org/wp-content/uploads/2023/12/tools_20712c-scaled.jpg
END:VEVENT
BEGIN:VEVENT
DTSTART;TZID=America/Detroit:20260519T170000
DTEND;TZID=America/Detroit:20260519T193000
DTSTAMP:20260421T202917
CREATED:20231207T170015Z
LAST-MODIFIED:20260127T135237Z
UID:10009139-1779210000-1779219000@trinitydavison.org
SUMMARY:My Brother's Keeper
DESCRIPTION:Not far from Trinity Lutheran Church can be found many who are experiencing homelessness. Responding to God’s love for us\, each month\, a ministry team from our church visit the residents of My Brother’s Keeper in Flint to encourage them with conversation\, a hot meal\, and the Word of God. \n\n\n\nWe invite you to help us in this act of love to our neighbors in Flint. Help is needed in the following areas: \n\n\n\n\nJoin us to visit with and serve the residents of My Brother’s Keeper.\n\n\n\nDonate a needed food item. A list of items is posted each month on the church lobby bulletin board.\n\n\n\nMake a financial donation. Donations can be placed in the regular offering plate. Please indicate on the envelope or memo line of your check that the gift is for MBK.\n\n\n\n\nIf you are interested in joining us or helping in person\, please contact the church office. \n\n\n\n\n\n\n\nMinistry Schedule\n\n\n\n5:00 p.m. – Meet at Trinity\, load vehicles\, carpool to MBK5:30 p.m. – Arrive at MBK. Set up. Prepare to serve.6:00 p.m. – Devotion/worship service6:15 p.m. – Serve meal to MBK residents. Visit with residents.6:45 p.m. – Clean up. Pack vehicles. Return to Trinity.7:15 p.m. – Arrive at Trinity. Return supplies to Trinity kitchen. See you next month!
URL:https://trinitydavison.org/event/my-brothers-keeper-2/2026-05-19/
LOCATION:My Brothers’ Keeper\, 101 N Grand Traverse St\, Flint\, Michigan\, 48503\, United States
CATEGORIES:Front Page
ATTACH;FMTTYPE=image/png:https://trinitydavison.org/wp-content/uploads/2013/04/My-Brothers-Keeper-Ministry-e1506002390400.png
END:VEVENT
END:VCALENDAR