BEGIN:VCALENDAR
VERSION:2.0
PRODID:-//Trinity Lutheran Church of Davison, MI - ECPv6.15.20//NONSGML v1.0//EN
CALSCALE:GREGORIAN
METHOD:PUBLISH
X-WR-CALNAME:Trinity Lutheran Church of Davison, MI
X-ORIGINAL-URL:https://trinitydavison.org
X-WR-CALDESC:Events for Trinity Lutheran Church of Davison, MI
REFRESH-INTERVAL;VALUE=DURATION:PT1H
X-Robots-Tag:noindex
X-PUBLISHED-TTL:PT1H
BEGIN:VTIMEZONE
TZID:America/Detroit
BEGIN:DAYLIGHT
TZOFFSETFROM:-0500
TZOFFSETTO:-0400
TZNAME:EDT
DTSTART:20250309T070000
END:DAYLIGHT
BEGIN:STANDARD
TZOFFSETFROM:-0400
TZOFFSETTO:-0500
TZNAME:EST
DTSTART:20251102T060000
END:STANDARD
BEGIN:DAYLIGHT
TZOFFSETFROM:-0500
TZOFFSETTO:-0400
TZNAME:EDT
DTSTART:20260308T070000
END:DAYLIGHT
BEGIN:STANDARD
TZOFFSETFROM:-0400
TZOFFSETTO:-0500
TZNAME:EST
DTSTART:20261101T060000
END:STANDARD
BEGIN:DAYLIGHT
TZOFFSETFROM:-0500
TZOFFSETTO:-0400
TZNAME:EDT
DTSTART:20270314T070000
END:DAYLIGHT
BEGIN:STANDARD
TZOFFSETFROM:-0400
TZOFFSETTO:-0500
TZNAME:EST
DTSTART:20271107T060000
END:STANDARD
END:VTIMEZONE
BEGIN:VEVENT
DTSTART;TZID=America/Detroit:20260714T093000
DTEND;TZID=America/Detroit:20260714T123000
DTSTAMP:20260421T234013
CREATED:20251113T174831Z
LAST-MODIFIED:20251113T174831Z
UID:10008291-1784021400-1784032200@trinitydavison.org
SUMMARY:Vacation Bible School
DESCRIPTION:
URL:https://trinitydavison.org/event/vacation-bible-school-3/2026-07-14/
LOCATION:MI
END:VEVENT
BEGIN:VEVENT
DTSTART;TZID=America/Detroit:20260714T130000
DTEND;TZID=America/Detroit:20260714T143000
DTSTAMP:20260421T234013
CREATED:20251217T193315Z
LAST-MODIFIED:20251217T193515Z
UID:10008666-1784034000-1784039400@trinitydavison.org
SUMMARY:Ladies Guild
DESCRIPTION: 
URL:https://trinitydavison.org/event/ladies-guild-2-2/2026-07-14/
LOCATION:Trinity Lutheran Church\, 706 W Flint St\, Davison\, MI\, 48423\, United States
END:VEVENT
BEGIN:VEVENT
DTSTART;TZID=America/Detroit:20260714T160000
DTEND;TZID=America/Detroit:20260714T173000
DTSTAMP:20260421T234013
CREATED:20260102T142657Z
LAST-MODIFIED:20260102T142712Z
UID:10008843-1784044800-1784050200@trinitydavison.org
SUMMARY:Board of Elders
DESCRIPTION:Trinity’s Board of Elders meets on a monthly basis to work with and assist the pastors in providing spiritual leadership to the congregation.
URL:https://trinitydavison.org/event/board-of-elders-12/2026-07-14/
LOCATION:Trinity Lutheran Church\, 706 W Flint St\, Davison\, MI\, 48423\, United States
ATTACH;FMTTYPE=image/jpeg:https://trinitydavison.org/wp-content/uploads/2024/09/bible_25858ac.jpg
END:VEVENT
BEGIN:VEVENT
DTSTART;TZID=America/Detroit:20260714T180000
DTEND;TZID=America/Detroit:20260714T190000
DTSTAMP:20260421T234013
CREATED:20260102T151200Z
LAST-MODIFIED:20260411T142156Z
UID:10008898-1784052000-1784055600@trinitydavison.org
SUMMARY:S.A.L.T. Meeting
DESCRIPTION:All members of the S.A.L.T. (Sound And Light Team) are encouraged to attend this important meeting. The S.A.L.T. team supports our worship services by operating the presentation and projection software\, soundboard\, and audio systems\, helping ensure that God’s Word is clearly seen and heard. \n\n\n\nWe will review current procedures\, address questions\, and discuss ways to strengthen our technical support for worship. If you currently serve on the team—or are interested in learning more about serving in this role—please plan to join us.
URL:https://trinitydavison.org/event/s-a-l-t-meeting/
LOCATION:MI
ATTACH;FMTTYPE=image/jpeg:https://trinitydavison.org/wp-content/uploads/2026/01/5B3CE28D-F84B-47FA-9A50-D8C62E5FFACB_1_105_c.jpeg
ORGANIZER;CN="Pastor Todd I. Frusti":MAILTO:tfrusti@trinitydavison.org
END:VEVENT
END:VCALENDAR