BEGIN:VCALENDAR
VERSION:2.0
PRODID:-//Trinity Lutheran Church of Davison, MI - ECPv6.15.20//NONSGML v1.0//EN
CALSCALE:GREGORIAN
METHOD:PUBLISH
X-WR-CALNAME:Trinity Lutheran Church of Davison, MI
X-ORIGINAL-URL:https://trinitydavison.org
X-WR-CALDESC:Events for Trinity Lutheran Church of Davison, MI
REFRESH-INTERVAL;VALUE=DURATION:PT1H
X-Robots-Tag:noindex
X-PUBLISHED-TTL:PT1H
BEGIN:VTIMEZONE
TZID:America/Detroit
BEGIN:DAYLIGHT
TZOFFSETFROM:-0500
TZOFFSETTO:-0400
TZNAME:EDT
DTSTART:20200308T070000
END:DAYLIGHT
BEGIN:STANDARD
TZOFFSETFROM:-0400
TZOFFSETTO:-0500
TZNAME:EST
DTSTART:20201101T060000
END:STANDARD
BEGIN:DAYLIGHT
TZOFFSETFROM:-0500
TZOFFSETTO:-0400
TZNAME:EDT
DTSTART:20210314T070000
END:DAYLIGHT
BEGIN:STANDARD
TZOFFSETFROM:-0400
TZOFFSETTO:-0500
TZNAME:EST
DTSTART:20211107T060000
END:STANDARD
BEGIN:DAYLIGHT
TZOFFSETFROM:-0500
TZOFFSETTO:-0400
TZNAME:EDT
DTSTART:20220313T070000
END:DAYLIGHT
BEGIN:STANDARD
TZOFFSETFROM:-0400
TZOFFSETTO:-0500
TZNAME:EST
DTSTART:20221106T060000
END:STANDARD
END:VTIMEZONE
BEGIN:VEVENT
DTSTART;TZID=America/Detroit:20210804T170000
DTEND;TZID=America/Detroit:20210804T190000
DTSTAMP:20260419T133038
CREATED:20210529T184105Z
LAST-MODIFIED:20210529T184105Z
UID:10000111-1628096400-1628103600@trinitydavison.org
SUMMARY:Food Truck Wednesday
DESCRIPTION:A Community Gathering of Music and Food.\nWe invite you to to attend this FREE EVENT that includes the great sounds of a local band. Food trucks will be available where you can purchase a wide variety of delicious foods and treats. \nFood Truck Wednesday’s take place in parking lot of Trinity Lutheran Church and are open to all. We look forward to welcoming you on the first Wednesday of each month throughout the summer of 2021! \nFood trucks scheduled for this event include:\nMr. Prince Gourmet (tacos)\nHoly Smokes (barbeque)\nSweet Whimseys (deserts)
URL:https://trinitydavison.org/event/food-truck-wednesday-3/
LOCATION:Trinity Lutheran Church\, 706 W Flint St\, Davison\, MI\, 48423\, United States
CATEGORIES:Community Outreach,Front Page
ATTACH;FMTTYPE=image/png:https://trinitydavison.org/wp-content/uploads/2021/05/Food-Truck-Wednesday.png
END:VEVENT
BEGIN:VEVENT
DTSTART;TZID=America/Detroit:20210707T170000
DTEND;TZID=America/Detroit:20210707T190000
DTSTAMP:20260419T133038
CREATED:20210529T183726Z
LAST-MODIFIED:20210529T184000Z
UID:10000110-1625677200-1625684400@trinitydavison.org
SUMMARY:Food Truck Wednesday
DESCRIPTION:A Community Gathering of Music and Food.\nWe invite you to to attend this FREE EVENT that includes the great sounds of “Blues Summit Trio”. Food trucks will be available where you can purchase a wide variety of delicious foods and treats. \nFood Truck Wednesday’s take place in parking lot of Trinity Lutheran Church and are open to all. We look forward to welcoming you on the first Wednesday of each month throughout the summer of 2021! \nFood trucks scheduled for this event include:\nMr. Prince Gourmet (tacos)\nHoly Smokes (barbeque)\nSweet Whimseys (deserts)
URL:https://trinitydavison.org/event/food-truck-wednesday-2/
LOCATION:Trinity Lutheran Church\, 706 W Flint St\, Davison\, MI\, 48423\, United States
CATEGORIES:Community Outreach,Front Page
ATTACH;FMTTYPE=image/png:https://trinitydavison.org/wp-content/uploads/2021/05/Food-Truck-Wednesday.png
END:VEVENT
BEGIN:VEVENT
DTSTART;TZID=America/Detroit:20210602T170000
DTEND;TZID=America/Detroit:20210602T190000
DTSTAMP:20260419T133038
CREATED:20210506T133105Z
LAST-MODIFIED:20210530T014732Z
UID:10000126-1622653200-1622660400@trinitydavison.org
SUMMARY:Food Truck Wednesday
DESCRIPTION:A Community Gathering of Music and Food.\n\n\n\nWe invite you to to attend this FREE EVENT that includes the great sounds of “Flash of Green”. Food trucks will be available where you can purchase a wide variety of delicious foods and treats. \n\n\n\nFood Truck Wednesday’s take place in parking lot of Trinity Lutheran Church and are open to all. We look forward to welcoming you on the first Wednesday of each month throughout the summer of 2021! \n\n\n\nFood trucks scheduled for this event include:\n\n\n\nMr. Prince Gourmet (tacos)Holy Smokes (barbeque)Sweet Whimseys (deserts)
URL:https://trinitydavison.org/event/food-truck-wednesday/
LOCATION:Trinity Lutheran Church\, 706 W Flint St\, Davison\, MI\, 48423\, United States
CATEGORIES:Community Outreach,Front Page
ATTACH;FMTTYPE=image/png:https://trinitydavison.org/wp-content/uploads/2021/05/Food-Truck-Wednesday.png
END:VEVENT
BEGIN:VEVENT
DTSTART;TZID=America/Detroit:20210505T170000
DTEND;TZID=America/Detroit:20210505T190000
DTSTAMP:20260419T133038
CREATED:20210311T195522Z
LAST-MODIFIED:20210318T134559Z
UID:10000372-1620234000-1620241200@trinitydavison.org
SUMMARY:Community Gathering of Music and Food
DESCRIPTION:We invite you and your friends to come out and enjoy a beautiful evening with good food and music. Three food trucks will be on site along with the sounds of the Blues Summit Trio live in the Trinity Pavilion. Don’t forget your lawn chairs. \nFood Trucks:\nMr. Prince Gourmet (tacos)\nHoly Smokes (barbeque)\nSweet Whimseys (deserts)
URL:https://trinitydavison.org/event/community-gathering-of-music-and-food/
LOCATION:Trinity Lutheran Church\, 706 W Flint St\, Davison\, MI\, 48423\, United States
CATEGORIES:Community Outreach,Front Page
ATTACH;FMTTYPE=image/jpeg:https://trinitydavison.org/wp-content/uploads/2021/03/Community-Gathering-of-Music-and-Food-16_9.jpg
END:VEVENT
END:VCALENDAR