BEGIN:VCALENDAR
VERSION:2.0
PRODID:-//Trinity Lutheran Church of Davison, MI - ECPv6.15.20//NONSGML v1.0//EN
CALSCALE:GREGORIAN
METHOD:PUBLISH
X-WR-CALNAME:Trinity Lutheran Church of Davison, MI
X-ORIGINAL-URL:https://trinitydavison.org
X-WR-CALDESC:Events for Trinity Lutheran Church of Davison, MI
REFRESH-INTERVAL;VALUE=DURATION:PT1H
X-Robots-Tag:noindex
X-PUBLISHED-TTL:PT1H
BEGIN:VTIMEZONE
TZID:America/Detroit
BEGIN:DAYLIGHT
TZOFFSETFROM:-0500
TZOFFSETTO:-0400
TZNAME:EDT
DTSTART:20210314T070000
END:DAYLIGHT
BEGIN:STANDARD
TZOFFSETFROM:-0400
TZOFFSETTO:-0500
TZNAME:EST
DTSTART:20211107T060000
END:STANDARD
BEGIN:DAYLIGHT
TZOFFSETFROM:-0500
TZOFFSETTO:-0400
TZNAME:EDT
DTSTART:20220313T070000
END:DAYLIGHT
BEGIN:STANDARD
TZOFFSETFROM:-0400
TZOFFSETTO:-0500
TZNAME:EST
DTSTART:20221106T060000
END:STANDARD
BEGIN:DAYLIGHT
TZOFFSETFROM:-0500
TZOFFSETTO:-0400
TZNAME:EDT
DTSTART:20230312T070000
END:DAYLIGHT
BEGIN:STANDARD
TZOFFSETFROM:-0400
TZOFFSETTO:-0500
TZNAME:EST
DTSTART:20231105T060000
END:STANDARD
END:VTIMEZONE
BEGIN:VEVENT
DTSTART;TZID=America/Detroit:20221231T000000
DTEND;TZID=America/Detroit:20221231T235959
DTSTAMP:20260419T113320
CREATED:20220511T181825Z
LAST-MODIFIED:20220511T181832Z
UID:10000151-1672444800-1672531199@trinitydavison.org
SUMMARY:Today's Bible Read:
DESCRIPTION:Revelations 19-22
URL:https://trinitydavison.org/event/todays-bible-read-10/
LOCATION:Trinity Lutheran Church\, 706 W Flint St\, Davison\, MI\, 48423\, United States
CATEGORIES:Today's Bible Readings
END:VEVENT
BEGIN:VEVENT
DTSTART;TZID=America/Detroit:20221230T000000
DTEND;TZID=America/Detroit:20221230T235959
DTSTAMP:20260419T113320
CREATED:20220511T181647Z
LAST-MODIFIED:20220511T181654Z
UID:10000186-1672358400-1672444799@trinitydavison.org
SUMMARY:Today's Bible Read:
DESCRIPTION:Revelations 12-18
URL:https://trinitydavison.org/event/todays-bible-read-9/
LOCATION:Trinity Lutheran Church\, 706 W Flint St\, Davison\, MI\, 48423\, United States
CATEGORIES:Today's Bible Readings
END:VEVENT
BEGIN:VEVENT
DTSTART;TZID=America/Detroit:20221229T000000
DTEND;TZID=America/Detroit:20221229T235959
DTSTAMP:20260419T113320
CREATED:20220511T181521Z
LAST-MODIFIED:20220511T181529Z
UID:10000214-1672272000-1672358399@trinitydavison.org
SUMMARY:Today's Bible Read:
DESCRIPTION:Revelations 6-11
URL:https://trinitydavison.org/event/todays-bible-read-8/
LOCATION:Trinity Lutheran Church\, 706 W Flint St\, Davison\, MI\, 48423\, United States
CATEGORIES:Today's Bible Readings
END:VEVENT
BEGIN:VEVENT
DTSTART;TZID=America/Detroit:20221228T000000
DTEND;TZID=America/Detroit:20221228T235959
DTSTAMP:20260419T113320
CREATED:20220511T181358Z
LAST-MODIFIED:20220511T181405Z
UID:10000216-1672185600-1672271999@trinitydavison.org
SUMMARY:Today's Bible Read:
DESCRIPTION:Revelations 1-5
URL:https://trinitydavison.org/event/todays-bible-read-7/
LOCATION:Trinity Lutheran Church\, 706 W Flint St\, Davison\, MI\, 48423\, United States
CATEGORIES:Today's Bible Readings
END:VEVENT
BEGIN:VEVENT
DTSTART;TZID=America/Detroit:20221227T000000
DTEND;TZID=America/Detroit:20221227T235959
DTSTAMP:20260419T113320
CREATED:20220511T181150Z
LAST-MODIFIED:20220511T181158Z
UID:10000215-1672099200-1672185599@trinitydavison.org
SUMMARY:Today's Bible Read:
DESCRIPTION:2 John 1-13\, 3 John1-13
URL:https://trinitydavison.org/event/todays-bible-read-6/
LOCATION:Trinity Lutheran Church\, 706 W Flint St\, Davison\, MI\, 48423\, United States
CATEGORIES:Today's Bible Readings
END:VEVENT
BEGIN:VEVENT
DTSTART;TZID=America/Detroit:20221226T000000
DTEND;TZID=America/Detroit:20221226T235959
DTSTAMP:20260419T113320
CREATED:20220511T180955Z
LAST-MODIFIED:20220511T181001Z
UID:10000225-1672012800-1672099199@trinitydavison.org
SUMMARY:Today's Bible Reading:
DESCRIPTION:1 John 1-5
URL:https://trinitydavison.org/event/todays-bible-reading-46/
LOCATION:Trinity Lutheran Church\, 706 W Flint St\, Davison\, MI\, 48423\, United States
CATEGORIES:Today's Bible Readings
END:VEVENT
BEGIN:VEVENT
DTSTART;TZID=America/Detroit:20221225T000000
DTEND;TZID=America/Detroit:20221225T235959
DTSTAMP:20260419T113320
CREATED:20220511T180740Z
LAST-MODIFIED:20220511T180748Z
UID:10000108-1671926400-1672012799@trinitydavison.org
SUMMARY:Today's Bible Read:
DESCRIPTION:2 Peter 1-3\, Jude 1-24
URL:https://trinitydavison.org/event/todays-bible-read-5/
LOCATION:Trinity Lutheran Church\, 706 W Flint St\, Davison\, MI\, 48423\, United States
CATEGORIES:Today's Bible Readings
END:VEVENT
BEGIN:VEVENT
DTSTART;TZID=America/Detroit:20221224T000000
DTEND;TZID=America/Detroit:20221224T235959
DTSTAMP:20260419T113320
CREATED:20220511T180308Z
LAST-MODIFIED:20220511T180315Z
UID:10000107-1671840000-1671926399@trinitydavison.org
SUMMARY:Today's Bible Read:
DESCRIPTION:2 Timothy 1-4
URL:https://trinitydavison.org/event/todays-bible-read-4/
LOCATION:Trinity Lutheran Church\, 706 W Flint St\, Davison\, MI\, 48423\, United States
CATEGORIES:Today's Bible Readings
END:VEVENT
BEGIN:VEVENT
DTSTART;TZID=America/Detroit:20221223T000000
DTEND;TZID=America/Detroit:20221223T235959
DTSTAMP:20260419T113320
CREATED:20220511T180117Z
LAST-MODIFIED:20220511T180124Z
UID:10000106-1671753600-1671839999@trinitydavison.org
SUMMARY:Today's Bible Read:
DESCRIPTION:Hebrew 11-13
URL:https://trinitydavison.org/event/todays-bible-read-3/
LOCATION:Trinity Lutheran Church\, 706 W Flint St\, Davison\, MI\, 48423\, United States
CATEGORIES:Today's Bible Readings
END:VEVENT
BEGIN:VEVENT
DTSTART;TZID=America/Detroit:20221222T000000
DTEND;TZID=America/Detroit:20221222T235959
DTSTAMP:20260419T113320
CREATED:20220511T175939Z
LAST-MODIFIED:20220511T175946Z
UID:10000343-1671667200-1671753599@trinitydavison.org
SUMMARY:Today's Bible Read:
DESCRIPTION:Hebrew 7-10
URL:https://trinitydavison.org/event/todays-bible-read-2/
LOCATION:Trinity Lutheran Church\, 706 W Flint St\, Davison\, MI\, 48423\, United States
CATEGORIES:Today's Bible Readings
END:VEVENT
BEGIN:VEVENT
DTSTART;TZID=America/Detroit:20221221T000000
DTEND;TZID=America/Detroit:20221221T235959
DTSTAMP:20260419T113320
CREATED:20220505T184041Z
LAST-MODIFIED:20220505T184052Z
UID:10000025-1671580800-1671667199@trinitydavison.org
SUMMARY:Today's Bible Reading:
DESCRIPTION:Hebrew 1-6
URL:https://trinitydavison.org/event/todays-bible-reading-45/
LOCATION:Trinity Lutheran Church\, 706 W Flint St\, Davison\, MI\, 48423\, United States
CATEGORIES:Today's Bible Readings
END:VEVENT
BEGIN:VEVENT
DTSTART;TZID=America/Detroit:20221220T000000
DTEND;TZID=America/Detroit:20221220T235959
DTSTAMP:20260419T113320
CREATED:20220505T183850Z
LAST-MODIFIED:20220505T183859Z
UID:10000026-1671494400-1671580799@trinitydavison.org
SUMMARY:Today's Bible Reading:
DESCRIPTION:1 Peter 1-5
URL:https://trinitydavison.org/event/todays-bible-reading-44/
LOCATION:Trinity Lutheran Church\, 706 W Flint St\, Davison\, MI\, 48423\, United States
CATEGORIES:Today's Bible Readings
END:VEVENT
BEGIN:VEVENT
DTSTART;TZID=America/Detroit:20221219T000000
DTEND;TZID=America/Detroit:20221219T235959
DTSTAMP:20260419T113320
CREATED:20220505T180934Z
LAST-MODIFIED:20220505T181018Z
UID:10000181-1671408000-1671494399@trinitydavison.org
SUMMARY:Today's Bible Reading:
DESCRIPTION:Titus 1-3
URL:https://trinitydavison.org/event/todays-bible-reading-43/
LOCATION:Trinity Lutheran Church\, 706 W Flint St\, Davison\, MI\, 48423\, United States
CATEGORIES:Today's Bible Readings
END:VEVENT
BEGIN:VEVENT
DTSTART;TZID=America/Detroit:20221218T000000
DTEND;TZID=America/Detroit:20221218T235959
DTSTAMP:20260419T113320
CREATED:20220505T180759Z
LAST-MODIFIED:20220505T180806Z
UID:10000180-1671321600-1671407999@trinitydavison.org
SUMMARY:Today's Bible Reading:
DESCRIPTION:1 Timothy 1-6
URL:https://trinitydavison.org/event/todays-bible-reading-42/
LOCATION:Trinity Lutheran Church\, 706 W Flint St\, Davison\, MI\, 48423\, United States
CATEGORIES:Today's Bible Readings
END:VEVENT
BEGIN:VEVENT
DTSTART;TZID=America/Detroit:20221217T000000
DTEND;TZID=America/Detroit:20221217T235959
DTSTAMP:20260419T113320
CREATED:20220505T180611Z
LAST-MODIFIED:20220505T180618Z
UID:10000210-1671235200-1671321599@trinitydavison.org
SUMMARY:Today's Bible Reading:
DESCRIPTION:Philippians 1-4
URL:https://trinitydavison.org/event/todays-bible-reading-41/
LOCATION:Trinity Lutheran Church\, 706 W Flint St\, Davison\, MI\, 48423\, United States
CATEGORIES:Today's Bible Readings
END:VEVENT
BEGIN:VEVENT
DTSTART;TZID=America/Detroit:20221216T000000
DTEND;TZID=America/Detroit:20221216T235959
DTSTAMP:20260419T113320
CREATED:20220505T180107Z
LAST-MODIFIED:20220505T180445Z
UID:10000211-1671148800-1671235199@trinitydavison.org
SUMMARY:Today's Bible Reading:
DESCRIPTION:Ephesians 1-6
URL:https://trinitydavison.org/event/todays-bible-reading-40/
LOCATION:Trinity Lutheran Church\, 706 W Flint St\, Davison\, MI\, 48423\, United States
CATEGORIES:Today's Bible Readings
END:VEVENT
BEGIN:VEVENT
DTSTART;TZID=America/Detroit:20221215T000000
DTEND;TZID=America/Detroit:20221215T235959
DTSTAMP:20260419T113320
CREATED:20220505T175645Z
LAST-MODIFIED:20220505T175652Z
UID:10000223-1671062400-1671148799@trinitydavison.org
SUMMARY:Today's Bible Readings:
DESCRIPTION:Colossians 1-4\, Philemon 1-25
URL:https://trinitydavison.org/event/todays-bible-readings/
LOCATION:Trinity Lutheran Church\, 706 W Flint St\, Davison\, MI\, 48423\, United States
CATEGORIES:Today's Bible Readings
END:VEVENT
BEGIN:VEVENT
DTSTART;TZID=America/Detroit:20221214T000000
DTEND;TZID=America/Detroit:20221214T235959
DTSTAMP:20260419T113320
CREATED:20220505T174923Z
LAST-MODIFIED:20220505T174930Z
UID:10000222-1670976000-1671062399@trinitydavison.org
SUMMARY:Today's Bible Reading:
DESCRIPTION:Acts 27-28
URL:https://trinitydavison.org/event/todays-bible-reading-39/
LOCATION:Trinity Lutheran Church\, 706 W Flint St\, Davison\, MI\, 48423\, United States
CATEGORIES:Today's Bible Readings
END:VEVENT
BEGIN:VEVENT
DTSTART;TZID=America/Detroit:20221213T000000
DTEND;TZID=America/Detroit:20221213T235959
DTSTAMP:20260419T113320
CREATED:20220505T174808Z
LAST-MODIFIED:20220505T174816Z
UID:10000103-1670889600-1670975999@trinitydavison.org
SUMMARY:Today's Bible Reading:
DESCRIPTION:Acts 24-26
URL:https://trinitydavison.org/event/todays-bible-reading-38/
LOCATION:Trinity Lutheran Church\, 706 W Flint St\, Davison\, MI\, 48423\, United States
CATEGORIES:Today's Bible Readings
END:VEVENT
BEGIN:VEVENT
DTSTART;TZID=America/Detroit:20221213T000000
DTEND;TZID=America/Detroit:20221213T235959
DTSTAMP:20260419T113320
CREATED:20220505T172453Z
LAST-MODIFIED:20220505T172502Z
UID:10000102-1670889600-1670975999@trinitydavison.org
SUMMARY:Today's Bible Reading:
DESCRIPTION:Acts 24-26
URL:https://trinitydavison.org/event/todays-bible-reading-37/
LOCATION:Trinity Lutheran Church\, 706 W Flint St\, Davison\, MI\, 48423\, United States
CATEGORIES:Today's Bible Readings
END:VEVENT
BEGIN:VEVENT
DTSTART;TZID=America/Detroit:20221212T000000
DTEND;TZID=America/Detroit:20221212T235959
DTSTAMP:20260419T113320
CREATED:20220505T170338Z
LAST-MODIFIED:20220505T170345Z
UID:10000050-1670803200-1670889599@trinitydavison.org
SUMMARY:Today's Bible Reading:
DESCRIPTION:Acts 20:4-23:35
URL:https://trinitydavison.org/event/todays-bible-reading-36/
LOCATION:Trinity Lutheran Church\, 706 W Flint St\, Davison\, MI\, 48423\, United States
CATEGORIES:Today's Bible Readings
END:VEVENT
BEGIN:VEVENT
DTSTART;TZID=America/Detroit:20221211T000000
DTEND;TZID=America/Detroit:20221211T235959
DTSTAMP:20260419T113320
CREATED:20220505T170126Z
LAST-MODIFIED:20220505T170133Z
UID:10000049-1670716800-1670803199@trinitydavison.org
SUMMARY:Today's Bible Reading:
DESCRIPTION:Romans 14-16
URL:https://trinitydavison.org/event/todays-bible-reading-35/
LOCATION:Trinity Lutheran Church\, 706 W Flint St\, Davison\, MI\, 48423\, United States
CATEGORIES:Today's Bible Readings
END:VEVENT
BEGIN:VEVENT
DTSTART;TZID=America/Detroit:20221210T000000
DTEND;TZID=America/Detroit:20221210T235959
DTSTAMP:20260419T113320
CREATED:20220505T165923Z
LAST-MODIFIED:20220505T165930Z
UID:10000048-1670630400-1670716799@trinitydavison.org
SUMMARY:Today's Bible Reading:
DESCRIPTION:Romans 11-13
URL:https://trinitydavison.org/event/todays-bible-reading-34/
LOCATION:Trinity Lutheran Church\, 706 W Flint St\, Davison\, MI\, 48423\, United States
CATEGORIES:Today's Bible Readings
END:VEVENT
BEGIN:VEVENT
DTSTART;TZID=America/Detroit:20221209T000000
DTEND;TZID=America/Detroit:20221209T235959
DTSTAMP:20260419T113320
CREATED:20220505T165611Z
LAST-MODIFIED:20220505T165620Z
UID:10000332-1670544000-1670630399@trinitydavison.org
SUMMARY:Today's Bible Reading:
DESCRIPTION:Romans 8-10
URL:https://trinitydavison.org/event/todays-bible-reading-33/
LOCATION:Trinity Lutheran Church\, 706 W Flint St\, Davison\, MI\, 48423\, United States
CATEGORIES:Today's Bible Readings
END:VEVENT
BEGIN:VEVENT
DTSTART;TZID=America/Detroit:20221208T000000
DTEND;TZID=America/Detroit:20221208T235959
DTSTAMP:20260419T113320
CREATED:20220505T165427Z
LAST-MODIFIED:20220505T165435Z
UID:10000331-1670457600-1670543999@trinitydavison.org
SUMMARY:Today's Bible Reading:
DESCRIPTION:Romans 4-7
URL:https://trinitydavison.org/event/todays-bible-reading-32/
LOCATION:Trinity Lutheran Church\, 706 W Flint St\, Davison\, MI\, 48423\, United States
CATEGORIES:Today's Bible Readings
END:VEVENT
BEGIN:VEVENT
DTSTART;TZID=America/Detroit:20221207T000000
DTEND;TZID=America/Detroit:20221207T235959
DTSTAMP:20260419T113320
CREATED:20220505T164307Z
LAST-MODIFIED:20220505T164316Z
UID:10000330-1670371200-1670457599@trinitydavison.org
SUMMARY:Today's Bible Reading:
DESCRIPTION:Acts 20: 1-3\, Romans 1-3
URL:https://trinitydavison.org/event/todays-bible-reading-31/
LOCATION:Trinity Lutheran Church\, 706 W Flint St\, Davison\, MI\, 48423\, United States
CATEGORIES:Today's Bible Readings
END:VEVENT
BEGIN:VEVENT
DTSTART;TZID=America/Detroit:20221206T000000
DTEND;TZID=America/Detroit:20221206T235959
DTSTAMP:20260419T113320
CREATED:20220505T164015Z
LAST-MODIFIED:20220505T164023Z
UID:10000329-1670284800-1670371199@trinitydavison.org
SUMMARY:Today's Bible Reading:
DESCRIPTION:2 Corinthians 10-13
URL:https://trinitydavison.org/event/todays-bible-reading-30/
LOCATION:Trinity Lutheran Church\, 706 W Flint St\, Davison\, MI\, 48423\, United States
CATEGORIES:Today's Bible Readings
END:VEVENT
BEGIN:VEVENT
DTSTART;TZID=America/Detroit:20221205T000000
DTEND;TZID=America/Detroit:20221205T235959
DTSTAMP:20260419T113320
CREATED:20220505T163741Z
LAST-MODIFIED:20220505T163747Z
UID:10000323-1670198400-1670284799@trinitydavison.org
SUMMARY:Today's Bible Reading:
DESCRIPTION:2 Corinthians 5-9
URL:https://trinitydavison.org/event/todays-bible-reading-29/
LOCATION:Trinity Lutheran Church\, 706 W Flint St\, Davison\, MI\, 48423\, United States
CATEGORIES:Today's Bible Readings
END:VEVENT
BEGIN:VEVENT
DTSTART;TZID=America/Detroit:20221204T000000
DTEND;TZID=America/Detroit:20221204T235959
DTSTAMP:20260419T113320
CREATED:20220505T161026Z
LAST-MODIFIED:20220505T161036Z
UID:10000322-1670112000-1670198399@trinitydavison.org
SUMMARY:Today's Bible Reading
DESCRIPTION:2 Corinthians 1-4
URL:https://trinitydavison.org/event/todays-bible-reading-28/
LOCATION:Trinity Lutheran Church\, 706 W Flint St\, Davison\, MI\, 48423\, United States
CATEGORIES:Today's Bible Readings
END:VEVENT
BEGIN:VEVENT
DTSTART;TZID=America/Detroit:20221202T000000
DTEND;TZID=America/Detroit:20221202T235959
DTSTAMP:20260419T113320
CREATED:20220505T160541Z
LAST-MODIFIED:20220505T160549Z
UID:10000321-1669939200-1670025599@trinitydavison.org
SUMMARY:Today's Bible Reading;
DESCRIPTION:1 Corinthians 12-14
URL:https://trinitydavison.org/event/todays-bible-reading-27/
LOCATION:Trinity Lutheran Church\, 706 W Flint St\, Davison\, MI\, 48423\, United States
CATEGORIES:Today's Bible Readings
END:VEVENT
END:VCALENDAR