BEGIN:VCALENDAR
VERSION:2.0
PRODID:-//Trinity Lutheran Church of Davison, MI - ECPv6.15.20//NONSGML v1.0//EN
CALSCALE:GREGORIAN
METHOD:PUBLISH
X-ORIGINAL-URL:https://trinitydavison.org
X-WR-CALDESC:Events for Trinity Lutheran Church of Davison, MI
REFRESH-INTERVAL;VALUE=DURATION:PT1H
X-Robots-Tag:noindex
X-PUBLISHED-TTL:PT1H
BEGIN:VTIMEZONE
TZID:America/Detroit
BEGIN:DAYLIGHT
TZOFFSETFROM:-0500
TZOFFSETTO:-0400
TZNAME:EDT
DTSTART:20210314T070000
END:DAYLIGHT
BEGIN:STANDARD
TZOFFSETFROM:-0400
TZOFFSETTO:-0500
TZNAME:EST
DTSTART:20211107T060000
END:STANDARD
BEGIN:DAYLIGHT
TZOFFSETFROM:-0500
TZOFFSETTO:-0400
TZNAME:EDT
DTSTART:20220313T070000
END:DAYLIGHT
BEGIN:STANDARD
TZOFFSETFROM:-0400
TZOFFSETTO:-0500
TZNAME:EST
DTSTART:20221106T060000
END:STANDARD
BEGIN:DAYLIGHT
TZOFFSETFROM:-0500
TZOFFSETTO:-0400
TZNAME:EDT
DTSTART:20230312T070000
END:DAYLIGHT
BEGIN:STANDARD
TZOFFSETFROM:-0400
TZOFFSETTO:-0500
TZNAME:EST
DTSTART:20231105T060000
END:STANDARD
END:VTIMEZONE
BEGIN:VEVENT
DTSTART;TZID=America/Detroit:20221208T000000
DTEND;TZID=America/Detroit:20221208T235959
DTSTAMP:20260419T164338
CREATED:20220505T165427Z
LAST-MODIFIED:20220505T165435Z
UID:10000331-1670457600-1670543999@trinitydavison.org
SUMMARY:Today's Bible Reading:
DESCRIPTION:Romans 4-7
URL:https://trinitydavison.org/event/todays-bible-reading-32/
LOCATION:Trinity Lutheran Church\, 706 W Flint St\, Davison\, MI\, 48423\, United States
CATEGORIES:Today's Bible Readings
END:VEVENT
BEGIN:VEVENT
DTSTART;TZID=America/Detroit:20221207T000000
DTEND;TZID=America/Detroit:20221207T235959
DTSTAMP:20260419T164338
CREATED:20220505T164307Z
LAST-MODIFIED:20220505T164316Z
UID:10000330-1670371200-1670457599@trinitydavison.org
SUMMARY:Today's Bible Reading:
DESCRIPTION:Acts 20: 1-3\, Romans 1-3
URL:https://trinitydavison.org/event/todays-bible-reading-31/
LOCATION:Trinity Lutheran Church\, 706 W Flint St\, Davison\, MI\, 48423\, United States
CATEGORIES:Today's Bible Readings
END:VEVENT
BEGIN:VEVENT
DTSTART;TZID=America/Detroit:20221206T000000
DTEND;TZID=America/Detroit:20221206T235959
DTSTAMP:20260419T164338
CREATED:20220505T164015Z
LAST-MODIFIED:20220505T164023Z
UID:10000329-1670284800-1670371199@trinitydavison.org
SUMMARY:Today's Bible Reading:
DESCRIPTION:2 Corinthians 10-13
URL:https://trinitydavison.org/event/todays-bible-reading-30/
LOCATION:Trinity Lutheran Church\, 706 W Flint St\, Davison\, MI\, 48423\, United States
CATEGORIES:Today's Bible Readings
END:VEVENT
BEGIN:VEVENT
DTSTART;TZID=America/Detroit:20221205T000000
DTEND;TZID=America/Detroit:20221205T235959
DTSTAMP:20260419T164338
CREATED:20220505T163741Z
LAST-MODIFIED:20220505T163747Z
UID:10000323-1670198400-1670284799@trinitydavison.org
SUMMARY:Today's Bible Reading:
DESCRIPTION:2 Corinthians 5-9
URL:https://trinitydavison.org/event/todays-bible-reading-29/
LOCATION:Trinity Lutheran Church\, 706 W Flint St\, Davison\, MI\, 48423\, United States
CATEGORIES:Today's Bible Readings
END:VEVENT
BEGIN:VEVENT
DTSTART;TZID=America/Detroit:20221204T000000
DTEND;TZID=America/Detroit:20221204T235959
DTSTAMP:20260419T164338
CREATED:20220505T161026Z
LAST-MODIFIED:20220505T161036Z
UID:10000322-1670112000-1670198399@trinitydavison.org
SUMMARY:Today's Bible Reading
DESCRIPTION:2 Corinthians 1-4
URL:https://trinitydavison.org/event/todays-bible-reading-28/
LOCATION:Trinity Lutheran Church\, 706 W Flint St\, Davison\, MI\, 48423\, United States
CATEGORIES:Today's Bible Readings
END:VEVENT
BEGIN:VEVENT
DTSTART;TZID=America/Detroit:20221202T000000
DTEND;TZID=America/Detroit:20221202T235959
DTSTAMP:20260419T164338
CREATED:20220505T160541Z
LAST-MODIFIED:20220505T160549Z
UID:10000321-1669939200-1670025599@trinitydavison.org
SUMMARY:Today's Bible Reading;
DESCRIPTION:1 Corinthians 12-14
URL:https://trinitydavison.org/event/todays-bible-reading-27/
LOCATION:Trinity Lutheran Church\, 706 W Flint St\, Davison\, MI\, 48423\, United States
CATEGORIES:Today's Bible Readings
END:VEVENT
BEGIN:VEVENT
DTSTART;TZID=America/Detroit:20221201T000000
DTEND;TZID=America/Detroit:20221201T235959
DTSTAMP:20260419T164338
CREATED:20220505T160011Z
LAST-MODIFIED:20220505T160017Z
UID:10000183-1669852800-1669939199@trinitydavison.org
SUMMARY:Today's Bible Reading:
DESCRIPTION:1 Corinthians 9-11
URL:https://trinitydavison.org/event/todays-bible-reading-26/
LOCATION:Trinity Lutheran Church\, 706 W Flint St\, Davison\, MI\, 48423\, United States
CATEGORIES:Today's Bible Readings
END:VEVENT
BEGIN:VEVENT
DTSTART;TZID=America/Detroit:20221130T000000
DTEND;TZID=America/Detroit:20221130T235959
DTSTAMP:20260419T164338
CREATED:20220505T155631Z
LAST-MODIFIED:20220505T160349Z
UID:10000182-1669766400-1669852799@trinitydavison.org
SUMMARY:Today's Bible Reading:
DESCRIPTION:1 Corinthians 5-8
URL:https://trinitydavison.org/event/todays-bible-reading-25/
LOCATION:Trinity Lutheran Church\, 706 W Flint St\, Davison\, MI\, 48423\, United States
CATEGORIES:Today's Bible Readings
END:VEVENT
BEGIN:VEVENT
DTSTART;TZID=America/Detroit:20221129T000000
DTEND;TZID=America/Detroit:20221129T235959
DTSTAMP:20260419T164338
CREATED:20220505T155448Z
LAST-MODIFIED:20220505T155456Z
UID:10000212-1669680000-1669766399@trinitydavison.org
SUMMARY:Today's Bible Reading:
DESCRIPTION:1 Corinthians 1-4
URL:https://trinitydavison.org/event/todays-bible-reading-24/
LOCATION:Trinity Lutheran Church\, 706 W Flint St\, Davison\, MI\, 48423\, United States
CATEGORIES:Today's Bible Readings
END:VEVENT
BEGIN:VEVENT
DTSTART;TZID=America/Detroit:20221128T000000
DTEND;TZID=America/Detroit:20221128T235959
DTSTAMP:20260419T164338
CREATED:20220505T155213Z
LAST-MODIFIED:20220505T155223Z
UID:10000213-1669593600-1669679999@trinitydavison.org
SUMMARY:Today's Bible Reading
DESCRIPTION:Acts 18:19-19:41
URL:https://trinitydavison.org/event/todays-bible-reading-23/
LOCATION:Trinity Lutheran Church\, 706 W Flint St\, Davison\, MI\, 48423\, United States
CATEGORIES:Today's Bible Readings
END:VEVENT
BEGIN:VEVENT
DTSTART;TZID=America/Detroit:20221127T000000
DTEND;TZID=America/Detroit:20221127T235959
DTSTAMP:20260419T164338
CREATED:20220505T154808Z
LAST-MODIFIED:20220505T154819Z
UID:10000224-1669507200-1669593599@trinitydavison.org
SUMMARY:Today's Bible Reading:
DESCRIPTION:1 Thessalonians 1-5\, 2 Thessalonians 1-3
URL:https://trinitydavison.org/event/todays-bible-reading-22/
LOCATION:Trinity Lutheran Church\, 706 W Flint St\, Davison\, MI\, 48423\, United States
CATEGORIES:Today's Bible Readings
END:VEVENT
BEGIN:VEVENT
DTSTART;TZID=America/Detroit:20221126T000000
DTEND;TZID=America/Detroit:20221126T235959
DTSTAMP:20260419T164338
CREATED:20220505T153833Z
LAST-MODIFIED:20220505T154231Z
UID:10000105-1669420800-1669507199@trinitydavison.org
SUMMARY:Today's Bible Reading:
DESCRIPTION:Acts 17-18:18
URL:https://trinitydavison.org/event/todays-bible-reading-21/
LOCATION:Trinity Lutheran Church\, 706 W Flint St\, Davison\, MI\, 48423\, United States
CATEGORIES:Today's Bible Readings
END:VEVENT
BEGIN:VEVENT
DTSTART;TZID=America/Detroit:20221125T000000
DTEND;TZID=America/Detroit:20221125T235959
DTSTAMP:20260419T164338
CREATED:20220505T153731Z
LAST-MODIFIED:20220505T153739Z
UID:10000104-1669334400-1669420799@trinitydavison.org
SUMMARY:Today's Bible Reading:
DESCRIPTION:Galatians 4-6
URL:https://trinitydavison.org/event/todays-bible-reading-20/
LOCATION:Trinity Lutheran Church\, 706 W Flint St\, Davison\, MI\, 48423\, United States
CATEGORIES:Today's Bible Readings
END:VEVENT
BEGIN:VEVENT
DTSTART;TZID=America/Detroit:20221124T000000
DTEND;TZID=America/Detroit:20221124T235959
DTSTAMP:20260419T164338
CREATED:20220505T153443Z
LAST-MODIFIED:20220505T153544Z
UID:10000013-1669248000-1669334399@trinitydavison.org
SUMMARY:Today's Bible Reading:
DESCRIPTION:Galatians 1-3
URL:https://trinitydavison.org/event/todays-bible-reading-19/
LOCATION:Trinity Lutheran Church\, 706 W Flint St\, Davison\, MI\, 48423\, United States
CATEGORIES:Today's Bible Readings
END:VEVENT
BEGIN:VEVENT
DTSTART;TZID=America/Detroit:20221123T000000
DTEND;TZID=America/Detroit:20221123T235959
DTSTAMP:20260419T164338
CREATED:20220505T153337Z
LAST-MODIFIED:20220505T153348Z
UID:10000012-1669161600-1669247999@trinitydavison.org
SUMMARY:Today's Bible Reading:
DESCRIPTION:Acts 15-16
URL:https://trinitydavison.org/event/todays-bible-reading-18/
LOCATION:Trinity Lutheran Church\, 706 W Flint St\, Davison\, MI\, 48423\, United States
CATEGORIES:Today's Bible Readings
END:VEVENT
BEGIN:VEVENT
DTSTART;TZID=America/Detroit:20221122T000000
DTEND;TZID=America/Detroit:20221122T235959
DTSTAMP:20260419T164338
CREATED:20220505T141807Z
LAST-MODIFIED:20220505T141814Z
UID:10000011-1669075200-1669161599@trinitydavison.org
SUMMARY:Today's Bible Reading:
DESCRIPTION:James 1-5
URL:https://trinitydavison.org/event/todays-bible-reading-17/
LOCATION:Trinity Lutheran Church\, 706 W Flint St\, Davison\, MI\, 48423\, United States
CATEGORIES:Today's Bible Readings
END:VEVENT
BEGIN:VEVENT
DTSTART;TZID=America/Detroit:20221121T000000
DTEND;TZID=America/Detroit:20221121T235959
DTSTAMP:20260419T164338
CREATED:20220505T141154Z
LAST-MODIFIED:20220505T141203Z
UID:10000185-1668988800-1669075199@trinitydavison.org
SUMMARY:Today's Bible Reading:
DESCRIPTION:Acts 13-14
URL:https://trinitydavison.org/event/todays-bible-reading-16/
LOCATION:Trinity Lutheran Church\, 706 W Flint St\, Davison\, MI\, 48423\, United States
CATEGORIES:Today's Bible Readings
END:VEVENT
BEGIN:VEVENT
DTSTART;TZID=America/Detroit:20221120T000000
DTEND;TZID=America/Detroit:20221120T235959
DTSTAMP:20260419T164338
CREATED:20220505T140249Z
LAST-MODIFIED:20220505T141523Z
UID:10000184-1668902400-1668988799@trinitydavison.org
SUMMARY:Todays Bible Reading:
DESCRIPTION:Acts 11-12
URL:https://trinitydavison.org/event/todays-bible-read/
LOCATION:Trinity Lutheran Church\, 706 W Flint St\, Davison\, MI\, 48423\, United States
CATEGORIES:Today's Bible Readings
END:VEVENT
BEGIN:VEVENT
DTSTART;TZID=America/Detroit:20221119T000000
DTEND;TZID=America/Detroit:20221119T235959
DTSTAMP:20260419T164338
CREATED:20220317T124218Z
LAST-MODIFIED:20220317T124224Z
UID:10000030-1668816000-1668902399@trinitydavison.org
SUMMARY:Acts 9-10
DESCRIPTION:Today’s Bible Reading: Acts 9-10
URL:https://trinitydavison.org/event/acts-9-10/
LOCATION:Trinity Lutheran Church\, 706 W Flint St\, Davison\, MI\, 48423\, United States
CATEGORIES:Today's Bible Readings
END:VEVENT
BEGIN:VEVENT
DTSTART;TZID=America/Detroit:20221118T000000
DTEND;TZID=America/Detroit:20221118T235959
DTSTAMP:20260419T164338
CREATED:20220317T124056Z
LAST-MODIFIED:20220317T124103Z
UID:10000047-1668729600-1668815999@trinitydavison.org
SUMMARY:Acts 7-8
DESCRIPTION:Today’s Bible Reading: Acts 7-8
URL:https://trinitydavison.org/event/acts-7-8/
LOCATION:Trinity Lutheran Church\, 706 W Flint St\, Davison\, MI\, 48423\, United States
CATEGORIES:Today's Bible Readings
END:VEVENT
BEGIN:VEVENT
DTSTART;TZID=America/Detroit:20221117T000000
DTEND;TZID=America/Detroit:20221117T235959
DTSTAMP:20260419T164338
CREATED:20220317T123826Z
LAST-MODIFIED:20220317T123832Z
UID:10000043-1668643200-1668729599@trinitydavison.org
SUMMARY:Acts 4-6
DESCRIPTION:Today’s Bible Reading: Acts 4-6
URL:https://trinitydavison.org/event/acts-4-6/
LOCATION:Trinity Lutheran Church\, 706 W Flint St\, Davison\, MI\, 48423\, United States
CATEGORIES:Today's Bible Readings
END:VEVENT
BEGIN:VEVENT
DTSTART;TZID=America/Detroit:20221116T000000
DTEND;TZID=America/Detroit:20221116T235959
DTSTAMP:20260419T164338
CREATED:20220310T192836Z
LAST-MODIFIED:20220310T192843Z
UID:10000179-1668556800-1668643199@trinitydavison.org
SUMMARY:Acts 1-3
DESCRIPTION:Today’s Bible Reading: Acts 1-3
URL:https://trinitydavison.org/event/acts-1-3/
LOCATION:Trinity Lutheran Church\, 706 W Flint St\, Davison\, MI\, 48423\, United States
CATEGORIES:Today's Bible Readings
END:VEVENT
BEGIN:VEVENT
DTSTART;TZID=America/Detroit:20221115T000000
DTEND;TZID=America/Detroit:20221115T235959
DTSTAMP:20260419T164338
CREATED:20220310T192637Z
LAST-MODIFIED:20220310T192644Z
UID:10000206-1668470400-1668556799@trinitydavison.org
SUMMARY:Luke 24\, John 20-21
DESCRIPTION:Today’s Bible Reading: Luke 24\, John 20-21
URL:https://trinitydavison.org/event/luke-24-john-20-21/
LOCATION:Trinity Lutheran Church\, 706 W Flint St\, Davison\, MI\, 48423\, United States
CATEGORIES:Today's Bible Readings
END:VEVENT
BEGIN:VEVENT
DTSTART;TZID=America/Detroit:20221114T000000
DTEND;TZID=America/Detroit:20221114T235959
DTSTAMP:20260419T164338
CREATED:20220310T192451Z
LAST-MODIFIED:20220310T192500Z
UID:10000208-1668384000-1668470399@trinitydavison.org
SUMMARY:Matthew 28\, Mark 16
DESCRIPTION:Today’s Bible Reading: Matthew 28\, Mark 16
URL:https://trinitydavison.org/event/matthew-28-mark-16/
LOCATION:Trinity Lutheran Church\, 706 W Flint St\, Davison\, MI\, 48423\, United States
CATEGORIES:Today's Bible Readings
END:VEVENT
BEGIN:VEVENT
DTSTART;TZID=America/Detroit:20221113T000000
DTEND;TZID=America/Detroit:20221113T235959
DTSTAMP:20260419T164338
CREATED:20220310T192201Z
LAST-MODIFIED:20220310T192208Z
UID:10000207-1668297600-1668383999@trinitydavison.org
SUMMARY:Luke 23\, John 18-19
DESCRIPTION:Today’s Bible Reading: Luke 23\, John 18-19
URL:https://trinitydavison.org/event/luke-23-john-18-19/
LOCATION:Trinity Lutheran Church\, 706 W Flint St\, Davison\, MI\, 48423\, United States
CATEGORIES:Today's Bible Readings
END:VEVENT
BEGIN:VEVENT
DTSTART;TZID=America/Detroit:20221112T000000
DTEND;TZID=America/Detroit:20221112T235959
DTSTAMP:20260419T164338
CREATED:20220310T191930Z
LAST-MODIFIED:20220310T191937Z
UID:10000221-1668211200-1668297599@trinitydavison.org
SUMMARY:Matthew 27\, Mark 15
DESCRIPTION:Today’s Bible Reading: Matthew 27\, Mark 15
URL:https://trinitydavison.org/event/matthew-27-mark-15/
LOCATION:Trinity Lutheran Church\, 706 W Flint St\, Davison\, MI\, 48423\, United States
CATEGORIES:Today's Bible Readings
END:VEVENT
BEGIN:VEVENT
DTSTART;TZID=America/Detroit:20221111T000000
DTEND;TZID=America/Detroit:20221111T235959
DTSTAMP:20260419T164338
CREATED:20220303T163522Z
LAST-MODIFIED:20220303T163528Z
UID:10000393-1668124800-1668211199@trinitydavison.org
SUMMARY:John 14-17
DESCRIPTION:Today’s Bible Reading: John 14-17
URL:https://trinitydavison.org/event/john-14-17/
LOCATION:Trinity Lutheran Church\, 706 W Flint St\, Davison\, MI\, 48423\, United States
CATEGORIES:Today's Bible Readings
END:VEVENT
BEGIN:VEVENT
DTSTART;TZID=America/Detroit:20221110T000000
DTEND;TZID=America/Detroit:20221110T235959
DTSTAMP:20260419T164338
CREATED:20220303T161609Z
LAST-MODIFIED:20220303T161615Z
UID:10000392-1668038400-1668124799@trinitydavison.org
SUMMARY:Luke 22\, John 13
DESCRIPTION:Today’s Bible Reading: Luke 22\, John 13
URL:https://trinitydavison.org/event/luke-22-john-13/
LOCATION:Trinity Lutheran Church\, 706 W Flint St\, Davison\, MI\, 48423\, United States
CATEGORIES:Today's Bible Readings
END:VEVENT
BEGIN:VEVENT
DTSTART;TZID=America/Detroit:20221109T000000
DTEND;TZID=America/Detroit:20221109T235959
DTSTAMP:20260419T164338
CREATED:20220303T161412Z
LAST-MODIFIED:20220303T161418Z
UID:10000418-1667952000-1668038399@trinitydavison.org
SUMMARY:Matthew 26\, Mark 14
DESCRIPTION:Today’s Bible Reading: Matthew 26\, Mark 14
URL:https://trinitydavison.org/event/matthew-26-mark-14/
LOCATION:Trinity Lutheran Church\, 706 W Flint St\, Davison\, MI\, 48423\, United States
CATEGORIES:Today's Bible Readings
END:VEVENT
BEGIN:VEVENT
DTSTART;TZID=America/Detroit:20221108T000000
DTEND;TZID=America/Detroit:20221108T235959
DTSTAMP:20260419T164338
CREATED:20220303T161143Z
LAST-MODIFIED:20220303T161149Z
UID:10000417-1667865600-1667951999@trinitydavison.org
SUMMARY:Matthew 25
DESCRIPTION:Today’s Bible Reading: Matthew 25
URL:https://trinitydavison.org/event/matthew-25/
LOCATION:Trinity Lutheran Church\, 706 W Flint St\, Davison\, MI\, 48423\, United States
CATEGORIES:Today's Bible Readings
END:VEVENT
END:VCALENDAR