BEGIN:VCALENDAR
VERSION:2.0
PRODID:-//Trinity Lutheran Church of Davison, MI - ECPv6.15.20//NONSGML v1.0//EN
CALSCALE:GREGORIAN
METHOD:PUBLISH
X-WR-CALNAME:Trinity Lutheran Church of Davison, MI
X-ORIGINAL-URL:https://trinitydavison.org
X-WR-CALDESC:Events for Trinity Lutheran Church of Davison, MI
REFRESH-INTERVAL;VALUE=DURATION:PT1H
X-Robots-Tag:noindex
X-PUBLISHED-TTL:PT1H
BEGIN:VTIMEZONE
TZID:America/Detroit
BEGIN:DAYLIGHT
TZOFFSETFROM:-0500
TZOFFSETTO:-0400
TZNAME:EDT
DTSTART:20250309T070000
END:DAYLIGHT
BEGIN:STANDARD
TZOFFSETFROM:-0400
TZOFFSETTO:-0500
TZNAME:EST
DTSTART:20251102T060000
END:STANDARD
BEGIN:DAYLIGHT
TZOFFSETFROM:-0500
TZOFFSETTO:-0400
TZNAME:EDT
DTSTART:20260308T070000
END:DAYLIGHT
BEGIN:STANDARD
TZOFFSETFROM:-0400
TZOFFSETTO:-0500
TZNAME:EST
DTSTART:20261101T060000
END:STANDARD
BEGIN:DAYLIGHT
TZOFFSETFROM:-0500
TZOFFSETTO:-0400
TZNAME:EDT
DTSTART:20270314T070000
END:DAYLIGHT
BEGIN:STANDARD
TZOFFSETFROM:-0400
TZOFFSETTO:-0500
TZNAME:EST
DTSTART:20271107T060000
END:STANDARD
END:VTIMEZONE
BEGIN:VEVENT
DTSTART;TZID=America/Detroit:20260420T180000
DTEND;TZID=America/Detroit:20260420T190000
DTSTAMP:20260422T174647
CREATED:20250611T162851Z
LAST-MODIFIED:20260128T191144Z
UID:10007079-1776708000-1776711600@trinitydavison.org
SUMMARY:Men's Bible Study
DESCRIPTION:Men of all ages are invited to join us for the study of God’s Word. We meet in the Titus Room on the first and third Mondays of each month.
URL:https://trinitydavison.org/event/mens-bible-study-22/2026-04-20/
LOCATION:Trinity Lutheran Church\, 706 W Flint St\, Davison\, MI\, 48423\, United States
CATEGORIES:Front Page,Men's Bible Study
END:VEVENT
BEGIN:VEVENT
DTSTART;TZID=America/Detroit:20260419T130000
DTEND;TZID=America/Detroit:20260419T150000
DTSTAMP:20260422T174647
CREATED:20231207T192518Z
LAST-MODIFIED:20231207T193354Z
UID:10003132-1776603600-1776610800@trinitydavison.org
SUMMARY:Grief Share
DESCRIPTION:You do not need to grieve alone. Trinity’s GriefShare ministry offers grief support groups where you can be encouraged\, cared for\, listened to\, and prayed for. At GriefShare you will find others who are experiencing grief also. \n\n\n\nWhat Happens At GriefShare?\n\n\n\nAt a weekly GriefShare meeting\, group participants will view a video featuring respected counselors\, teachers\, and healthcare professionals on grief-related topics. After that is a small-group discussion to allow people a time of sharing\, support\, and personal application of what they learned on the video. Group participants will receive a book to take home filled with valuable exercises for navigating their personal grieving process. \n\n\n\nHow Much Does GriefShare Cost?\n\n\n\n\n\n\n\nThere is no cost to attend GriefShare. This is our gift to help our neighbors in the local community. All of the materials that you receive at GriefShare are also free. Of course\, donations to future GriefShare expenses are welcome and can be made to “Trinity Lutheran Church”. \n\n\n\nDo I Have to Register?\n\n\n\nNo. You can attend a GriefShare session at any time. If you are new\, you are welcome to call the church office ahead of time to confirm that GriefShare is meeting and give us an opportunity to notify you in the unlikely event that the session is cancelled or rescheduled. \n\n\n\nWhere Does GriefShare Meet?\n\n\n\nGriefShare meets in what is known as the “Titus Room”.  \n\n\n\nWhen you arrive\, enter through the north doors just off the church parking lot. Inside the church walk straight down the long hallway. You will pass a coffee pot and water fountain. At the end of the hallway\, turn left. The Titus Room will be the second door on your right. \n\n\n\n“Blessed are those who mourn for they will be comforted” (Matthew 5:4).
URL:https://trinitydavison.org/event/grief-share-2/2026-04-19/
LOCATION:Trinity Lutheran Church\, 706 W Flint St\, Davison\, MI\, 48423\, United States
CATEGORIES:Community Outreach,Front Page
ATTACH;FMTTYPE=image/jpeg:https://trinitydavison.org/wp-content/uploads/2021/09/GreifShare.jpg
END:VEVENT
BEGIN:VEVENT
DTSTART;TZID=America/Detroit:20260419T111500
DTEND;TZID=America/Detroit:20260419T121500
DTSTAMP:20260422T174647
CREATED:20251230T161018Z
LAST-MODIFIED:20251230T163054Z
UID:10008823-1776597300-1776600900@trinitydavison.org
SUMMARY:Sunday School
DESCRIPTION:You are never too young or too old to study the Word of God. Every week at Trinity Lutheran Church we offer Sunday school classes for all ages. We look forward to you attending one of our classes this Sunday!
URL:https://trinitydavison.org/event/sunday-school-4/2026-04-19/
LOCATION:Trinity Lutheran Church\, 706 W Flint St\, Davison\, MI\, 48423\, United States
CATEGORIES:Front Page
ATTACH;FMTTYPE=image/jpeg:https://trinitydavison.org/wp-content/uploads/2025/11/heart_26893ac-scaled.jpg
ORGANIZER;CN="Vicki DeLay":MAILTO:vmomdelay@aol.com
END:VEVENT
BEGIN:VEVENT
DTSTART;TZID=America/Detroit:20260419T100000
DTEND;TZID=America/Detroit:20260419T111000
DTSTAMP:20260422T174647
CREATED:20251118T171434Z
LAST-MODIFIED:20251118T171437Z
UID:10007378-1776592800-1776597000@trinitydavison.org
SUMMARY:Worship
DESCRIPTION:We invite you to worship with us. During our time of worship we experience the Lord together through the reading of the Bible\, singing hymns\, prayer\, a sermon based on the teachings of the Bible\, and the celebration of Holy Communion. \n\n\n\nThis Week’s Worship\n\n\n\nSermon Theme:  Sermon Text:  Order of Worship Bulletin: Click Here to downloadProclaimer:   \n\n\n\nLive Stream\n\n\n\nThis service will also be live-streamed on our YouTube channel and on Facebook. \n\n\n\nLinks to our Worship Leader Schedules\n\n\n\nAcolytesEldersLectorsS.A.L.T.Ushers
URL:https://trinitydavison.org/event/worship-15-2-2/2026-04-19/
LOCATION:Trinity Lutheran Church\, 706 W Flint St\, Davison\, MI\, 48423\, United States
CATEGORIES:Front Page,Worship
ATTACH;FMTTYPE=image/jpeg:https://trinitydavison.org/wp-content/uploads/2022/11/Worship-16_9-1.jpg
END:VEVENT
BEGIN:VEVENT
DTSTART;TZID=America/Detroit:20260419T090000
DTEND;TZID=America/Detroit:20260419T095000
DTSTAMP:20260422T174647
CREATED:20251113T150352Z
LAST-MODIFIED:20251113T150352Z
UID:10007887-1776589200-1776592200@trinitydavison.org
SUMMARY:Adult Bible Study
DESCRIPTION:
URL:https://trinitydavison.org/event/adult-bible-study/2026-04-19/
LOCATION:Trinity Lutheran Church\, 706 W Flint St\, Davison\, MI\, 48423\, United States
CATEGORIES:Bible Study,Education
END:VEVENT
BEGIN:VEVENT
DTSTART;TZID=America/Detroit:20260416T130000
DTEND;TZID=America/Detroit:20260416T140000
DTSTAMP:20260422T174647
CREATED:20231207T142208Z
LAST-MODIFIED:20231207T143008Z
UID:10002913-1776344400-1776348000@trinitydavison.org
SUMMARY:Upper Room Prayer Group
DESCRIPTION:Philippians 4:6–7 (ESV) 6 do not be anxious about anything\, but in everything by prayer and supplication with thanksgiving let your requests be made known to God. 7 And the peace of God\, which surpasses all understanding\, will guard your hearts and your minds in Christ Jesus. \n\n\n\n\n\n\n\nGod’s people at Trinity Lutheran Church are a praying people. Prayer takes place in all of our worship services\, our meetings\, and our classes. Individually\, it takes place in our homes throughout the week. \n\n\n\nEach Thursday afternoon\, the Upper Room Prayer Group is a place where prayer continues among those who gather. If you need prayer\, or if you would like to gather for a time of encouraging prayer with others\, we welcome you. Come as you are. You need not be a member of our church\, but a believer in prayer and a member of God’s family.
URL:https://trinitydavison.org/event/upper-room-prayer-group-3/2026-04-16/
LOCATION:Trinity Lutheran Church\, 706 W Flint St\, Davison\, MI\, 48423\, United States
CATEGORIES:Fellowship,Front Page
ATTACH;FMTTYPE=image/jpeg:https://trinitydavison.org/wp-content/uploads/2022/11/Upper-Room-16_9.jpg
END:VEVENT
BEGIN:VEVENT
DTSTART;TZID=America/Detroit:20260415T090000
DTEND;TZID=America/Detroit:20260415T120000
DTSTAMP:20260422T174647
CREATED:20251113T171705Z
LAST-MODIFIED:20251119T191000Z
UID:10008001-1776243600-1776254400@trinitydavison.org
SUMMARY:Trinity Quilters
DESCRIPTION: 
URL:https://trinitydavison.org/event/trinity-quilters-4/2026-04-15/
LOCATION:MI
END:VEVENT
BEGIN:VEVENT
DTSTART;TZID=America/Detroit:20260414T160000
DTEND;TZID=America/Detroit:20260414T173000
DTSTAMP:20260422T174647
CREATED:20260102T142657Z
LAST-MODIFIED:20260102T142712Z
UID:10008840-1776182400-1776187800@trinitydavison.org
SUMMARY:Board of Elders
DESCRIPTION:Trinity’s Board of Elders meets on a monthly basis to work with and assist the pastors in providing spiritual leadership to the congregation.
URL:https://trinitydavison.org/event/board-of-elders-12/2026-04-14/
LOCATION:Trinity Lutheran Church\, 706 W Flint St\, Davison\, MI\, 48423\, United States
ATTACH;FMTTYPE=image/jpeg:https://trinitydavison.org/wp-content/uploads/2024/09/bible_25858ac.jpg
END:VEVENT
BEGIN:VEVENT
DTSTART;TZID=America/Detroit:20260414T130000
DTEND;TZID=America/Detroit:20260414T143000
DTSTAMP:20260422T174647
CREATED:20251217T193315Z
LAST-MODIFIED:20251217T193515Z
UID:10008663-1776171600-1776177000@trinitydavison.org
SUMMARY:Ladies Guild
DESCRIPTION: 
URL:https://trinitydavison.org/event/ladies-guild-2-2/2026-04-14/
LOCATION:Trinity Lutheran Church\, 706 W Flint St\, Davison\, MI\, 48423\, United States
END:VEVENT
BEGIN:VEVENT
DTSTART;TZID=America/Detroit:20260412T130000
DTEND;TZID=America/Detroit:20260412T150000
DTSTAMP:20260422T174647
CREATED:20231207T192518Z
LAST-MODIFIED:20231207T193354Z
UID:10003131-1775998800-1776006000@trinitydavison.org
SUMMARY:Grief Share
DESCRIPTION:You do not need to grieve alone. Trinity’s GriefShare ministry offers grief support groups where you can be encouraged\, cared for\, listened to\, and prayed for. At GriefShare you will find others who are experiencing grief also. \n\n\n\nWhat Happens At GriefShare?\n\n\n\nAt a weekly GriefShare meeting\, group participants will view a video featuring respected counselors\, teachers\, and healthcare professionals on grief-related topics. After that is a small-group discussion to allow people a time of sharing\, support\, and personal application of what they learned on the video. Group participants will receive a book to take home filled with valuable exercises for navigating their personal grieving process. \n\n\n\nHow Much Does GriefShare Cost?\n\n\n\n\n\n\n\nThere is no cost to attend GriefShare. This is our gift to help our neighbors in the local community. All of the materials that you receive at GriefShare are also free. Of course\, donations to future GriefShare expenses are welcome and can be made to “Trinity Lutheran Church”. \n\n\n\nDo I Have to Register?\n\n\n\nNo. You can attend a GriefShare session at any time. If you are new\, you are welcome to call the church office ahead of time to confirm that GriefShare is meeting and give us an opportunity to notify you in the unlikely event that the session is cancelled or rescheduled. \n\n\n\nWhere Does GriefShare Meet?\n\n\n\nGriefShare meets in what is known as the “Titus Room”.  \n\n\n\nWhen you arrive\, enter through the north doors just off the church parking lot. Inside the church walk straight down the long hallway. You will pass a coffee pot and water fountain. At the end of the hallway\, turn left. The Titus Room will be the second door on your right. \n\n\n\n“Blessed are those who mourn for they will be comforted” (Matthew 5:4).
URL:https://trinitydavison.org/event/grief-share-2/2026-04-12/
LOCATION:Trinity Lutheran Church\, 706 W Flint St\, Davison\, MI\, 48423\, United States
CATEGORIES:Community Outreach,Front Page
ATTACH;FMTTYPE=image/jpeg:https://trinitydavison.org/wp-content/uploads/2021/09/GreifShare.jpg
END:VEVENT
BEGIN:VEVENT
DTSTART;TZID=America/Detroit:20260412T111500
DTEND;TZID=America/Detroit:20260412T121500
DTSTAMP:20260422T174647
CREATED:20251230T161018Z
LAST-MODIFIED:20251230T163054Z
UID:10008822-1775992500-1775996100@trinitydavison.org
SUMMARY:Sunday School
DESCRIPTION:You are never too young or too old to study the Word of God. Every week at Trinity Lutheran Church we offer Sunday school classes for all ages. We look forward to you attending one of our classes this Sunday!
URL:https://trinitydavison.org/event/sunday-school-4/2026-04-12/
LOCATION:Trinity Lutheran Church\, 706 W Flint St\, Davison\, MI\, 48423\, United States
CATEGORIES:Front Page
ATTACH;FMTTYPE=image/jpeg:https://trinitydavison.org/wp-content/uploads/2025/11/heart_26893ac-scaled.jpg
ORGANIZER;CN="Vicki DeLay":MAILTO:vmomdelay@aol.com
END:VEVENT
BEGIN:VEVENT
DTSTART;TZID=America/Detroit:20260412T100000
DTEND;TZID=America/Detroit:20260412T111000
DTSTAMP:20260422T174647
CREATED:20251118T171434Z
LAST-MODIFIED:20251118T171437Z
UID:10007377-1775988000-1775992200@trinitydavison.org
SUMMARY:Worship
DESCRIPTION:We invite you to worship with us. During our time of worship we experience the Lord together through the reading of the Bible\, singing hymns\, prayer\, a sermon based on the teachings of the Bible\, and the celebration of Holy Communion. \n\n\n\nThis Week’s Worship\n\n\n\nSermon Theme:  Sermon Text:  Order of Worship Bulletin: Click Here to downloadProclaimer:   \n\n\n\nLive Stream\n\n\n\nThis service will also be live-streamed on our YouTube channel and on Facebook. \n\n\n\nLinks to our Worship Leader Schedules\n\n\n\nAcolytesEldersLectorsS.A.L.T.Ushers
URL:https://trinitydavison.org/event/worship-15-2-2/2026-04-12/
LOCATION:Trinity Lutheran Church\, 706 W Flint St\, Davison\, MI\, 48423\, United States
CATEGORIES:Front Page,Worship
ATTACH;FMTTYPE=image/jpeg:https://trinitydavison.org/wp-content/uploads/2022/11/Worship-16_9-1.jpg
END:VEVENT
BEGIN:VEVENT
DTSTART;TZID=America/Detroit:20260412T090000
DTEND;TZID=America/Detroit:20260412T095000
DTSTAMP:20260422T174647
CREATED:20251113T150352Z
LAST-MODIFIED:20251113T150352Z
UID:10007886-1775984400-1775987400@trinitydavison.org
SUMMARY:Adult Bible Study
DESCRIPTION:
URL:https://trinitydavison.org/event/adult-bible-study/2026-04-12/
LOCATION:Trinity Lutheran Church\, 706 W Flint St\, Davison\, MI\, 48423\, United States
CATEGORIES:Bible Study,Education
END:VEVENT
BEGIN:VEVENT
DTSTART;TZID=America/Detroit:20260411T083000
DTEND;TZID=America/Detroit:20260411T100000
DTSTAMP:20260422T174647
CREATED:20251217T190035Z
LAST-MODIFIED:20260203T194325Z
UID:10007325-1775896200-1775901600@trinitydavison.org
SUMMARY:Men's Fellowship Breakfast
DESCRIPTION:We look forward to welcoming you to our monthly Men’s Breakfast Fellowship. Men and boys of all ages are welcome to this free event that includes a hearty\, delicious breakfast\, and good conversations with other guys from all walks of life. Each time we meet we will conclude with a reading from the Bible\, a brief devotion\, and a prayer. \n\n\n\nThank you in advance for letting us know you’re coming . . . (this helps us make sure we have enough breakfast for everyone while not wasting good food by making too much). Thanks again! \n\n\n\nSee you Saturday morning at 8:30 a.m.
URL:https://trinitydavison.org/event/mens-breakfast-fellowship-3/2026-04-11/
LOCATION:Trinity Lutheran Church\, 706 W Flint St\, Davison\, MI\, 48423\, United States
END:VEVENT
BEGIN:VEVENT
DTSTART;TZID=America/Detroit:20260409T130000
DTEND;TZID=America/Detroit:20260409T140000
DTSTAMP:20260422T174647
CREATED:20231207T142208Z
LAST-MODIFIED:20231207T143008Z
UID:10002912-1775739600-1775743200@trinitydavison.org
SUMMARY:Upper Room Prayer Group
DESCRIPTION:Philippians 4:6–7 (ESV) 6 do not be anxious about anything\, but in everything by prayer and supplication with thanksgiving let your requests be made known to God. 7 And the peace of God\, which surpasses all understanding\, will guard your hearts and your minds in Christ Jesus. \n\n\n\n\n\n\n\nGod’s people at Trinity Lutheran Church are a praying people. Prayer takes place in all of our worship services\, our meetings\, and our classes. Individually\, it takes place in our homes throughout the week. \n\n\n\nEach Thursday afternoon\, the Upper Room Prayer Group is a place where prayer continues among those who gather. If you need prayer\, or if you would like to gather for a time of encouraging prayer with others\, we welcome you. Come as you are. You need not be a member of our church\, but a believer in prayer and a member of God’s family.
URL:https://trinitydavison.org/event/upper-room-prayer-group-3/2026-04-09/
LOCATION:Trinity Lutheran Church\, 706 W Flint St\, Davison\, MI\, 48423\, United States
CATEGORIES:Fellowship,Front Page
ATTACH;FMTTYPE=image/jpeg:https://trinitydavison.org/wp-content/uploads/2022/11/Upper-Room-16_9.jpg
END:VEVENT
BEGIN:VEVENT
DTSTART;TZID=America/Detroit:20260408T090000
DTEND;TZID=America/Detroit:20260408T120000
DTSTAMP:20260422T174647
CREATED:20251113T171705Z
LAST-MODIFIED:20251119T191000Z
UID:10008000-1775638800-1775649600@trinitydavison.org
SUMMARY:Trinity Quilters
DESCRIPTION: 
URL:https://trinitydavison.org/event/trinity-quilters-4/2026-04-08/
LOCATION:MI
END:VEVENT
BEGIN:VEVENT
DTSTART;TZID=America/Detroit:20260407T090000
DTEND;TZID=America/Detroit:20260407T110000
DTSTAMP:20260422T174647
CREATED:20260129T171205Z
LAST-MODIFIED:20260129T174339Z
UID:10001002-1775552400-1775559600@trinitydavison.org
SUMMARY:Work Bee
DESCRIPTION:
URL:https://trinitydavison.org/event/work-bee-4/2026-04-07/
LOCATION:Trinity Lutheran Church\, 706 W Flint St\, Davison\, MI\, 48423\, United States
CATEGORIES:Ministry Teams
END:VEVENT
BEGIN:VEVENT
DTSTART;TZID=America/Detroit:20260406T180000
DTEND;TZID=America/Detroit:20260406T190000
DTSTAMP:20260422T174647
CREATED:20260406T155357Z
LAST-MODIFIED:20260406T155410Z
UID:10009266-1775498400-1775502000@trinitydavison.org
SUMMARY:Men's Bible Study
DESCRIPTION:Men of all ages are invited to join us for the study of God’s Word. We meet in the Titus Room on the first and third Mondays of each month.
URL:https://trinitydavison.org/event/mens-bible-study-21/2026-04-06/
LOCATION:Trinity Lutheran Church\, 706 W Flint St\, Davison\, MI\, 48423\, United States
CATEGORIES:Front Page,Men's Bible Study
ATTACH;FMTTYPE=image/jpeg:https://trinitydavison.org/wp-content/uploads/2026/01/bible_30835bc-scaled.jpg
END:VEVENT
BEGIN:VEVENT
DTSTART;TZID=America/Detroit:20260405T110000
DTEND;TZID=America/Detroit:20260405T120000
DTSTAMP:20260422T174647
CREATED:20251113T173026Z
LAST-MODIFIED:20260331T171632Z
UID:10008267-1775386800-1775390400@trinitydavison.org
SUMMARY:Easter Worship
DESCRIPTION:
URL:https://trinitydavison.org/event/easter-worship-3/2026-04-05/2/
LOCATION:Trinity Lutheran Church\, 706 W Flint St\, Davison\, MI\, 48423\, United States
CATEGORIES:Front Page,Worship
ATTACH;FMTTYPE=image/jpeg:https://trinitydavison.org/wp-content/uploads/2025/11/tomb_28026apc.jpg
END:VEVENT
BEGIN:VEVENT
DTSTART;TZID=America/Detroit:20260405T093000
DTEND;TZID=America/Detroit:20260405T103000
DTSTAMP:20260422T174647
CREATED:20251113T173026Z
LAST-MODIFIED:20260331T171632Z
UID:10008266-1775381400-1775385000@trinitydavison.org
SUMMARY:Easter Worship
DESCRIPTION:
URL:https://trinitydavison.org/event/easter-worship-3/2026-04-05/1/
LOCATION:Trinity Lutheran Church\, 706 W Flint St\, Davison\, MI\, 48423\, United States
CATEGORIES:Front Page,Worship
ATTACH;FMTTYPE=image/jpeg:https://trinitydavison.org/wp-content/uploads/2025/11/tomb_28026apc.jpg
END:VEVENT
BEGIN:VEVENT
DTSTART;TZID=America/Detroit:20260405T083000
DTEND;TZID=America/Detroit:20260405T104500
DTSTAMP:20260422T174647
CREATED:20251113T173142Z
LAST-MODIFIED:20260331T172957Z
UID:10008268-1775377800-1775385900@trinitydavison.org
SUMMARY:Easter Breakfast
DESCRIPTION:A delicious breakfast is being served by Trinity’s youth and their families on Easter Sunday. You are invited to Trinity’s Lower Level for a large breakfast including pancakes\, scrambled eggs\, fruits\, juice\, and coffee. \n\n\n\nEaster breakfast is being served from 8:30 a.m. until 10:45 a.m. you will be able to enjoy this breakfast whether you are attending Easter worship at  9:30 a.m. or 11:00 a.m.
URL:https://trinitydavison.org/event/easter-breakfast-3/
LOCATION:Trinity Lutheran Church\, 706 W Flint St\, Davison\, MI\, 48423\, United States
CATEGORIES:Fellowship,Front Page
ATTACH;FMTTYPE=image/png:https://trinitydavison.org/wp-content/uploads/2025/11/image.png
END:VEVENT
BEGIN:VEVENT
DTSTART;TZID=America/Detroit:20260403T190000
DTEND;TZID=America/Detroit:20260403T200000
DTSTAMP:20260422T174647
CREATED:20251113T172817Z
LAST-MODIFIED:20260330T130138Z
UID:10008265-1775242800-1775246400@trinitydavison.org
SUMMARY:Good Friday Tenebrae
DESCRIPTION:
URL:https://trinitydavison.org/event/good-friday-worship-4/
LOCATION:Trinity Lutheran Church\, 706 W Flint St\, Davison\, MI\, 48423\, United States
CATEGORIES:Front Page,Worship
ATTACH;FMTTYPE=image/jpeg:https://trinitydavison.org/wp-content/uploads/2025/11/candle_4471n-scaled.jpg
END:VEVENT
BEGIN:VEVENT
DTSTART;TZID=America/Detroit:20260402T190000
DTEND;TZID=America/Detroit:20260402T200000
DTSTAMP:20260422T174647
CREATED:20251113T172716Z
LAST-MODIFIED:20260330T125802Z
UID:10008264-1775156400-1775160000@trinitydavison.org
SUMMARY:Maundy Thursday Worship
DESCRIPTION:
URL:https://trinitydavison.org/event/maundy-thursday-worship-6/
LOCATION:Trinity Lutheran Church\, 706 W Flint St\, Davison\, MI\, 48423\, United States
CATEGORIES:Front Page,Worship
ATTACH;FMTTYPE=image/jpeg:https://trinitydavison.org/wp-content/uploads/2025/11/cup_30931dc.jpg
END:VEVENT
BEGIN:VEVENT
DTSTART;TZID=America/Detroit:20260402T130000
DTEND;TZID=America/Detroit:20260402T140000
DTSTAMP:20260422T174647
CREATED:20231207T142208Z
LAST-MODIFIED:20231207T143008Z
UID:10002911-1775134800-1775138400@trinitydavison.org
SUMMARY:Upper Room Prayer Group
DESCRIPTION:Philippians 4:6–7 (ESV) 6 do not be anxious about anything\, but in everything by prayer and supplication with thanksgiving let your requests be made known to God. 7 And the peace of God\, which surpasses all understanding\, will guard your hearts and your minds in Christ Jesus. \n\n\n\n\n\n\n\nGod’s people at Trinity Lutheran Church are a praying people. Prayer takes place in all of our worship services\, our meetings\, and our classes. Individually\, it takes place in our homes throughout the week. \n\n\n\nEach Thursday afternoon\, the Upper Room Prayer Group is a place where prayer continues among those who gather. If you need prayer\, or if you would like to gather for a time of encouraging prayer with others\, we welcome you. Come as you are. You need not be a member of our church\, but a believer in prayer and a member of God’s family.
URL:https://trinitydavison.org/event/upper-room-prayer-group-3/2026-04-02/
LOCATION:Trinity Lutheran Church\, 706 W Flint St\, Davison\, MI\, 48423\, United States
CATEGORIES:Fellowship,Front Page
ATTACH;FMTTYPE=image/jpeg:https://trinitydavison.org/wp-content/uploads/2022/11/Upper-Room-16_9.jpg
END:VEVENT
BEGIN:VEVENT
DTSTART;TZID=America/Detroit:20260401T090000
DTEND;TZID=America/Detroit:20260401T120000
DTSTAMP:20260422T174647
CREATED:20251113T171705Z
LAST-MODIFIED:20251119T191000Z
UID:10007999-1775034000-1775044800@trinitydavison.org
SUMMARY:Trinity Quilters
DESCRIPTION: 
URL:https://trinitydavison.org/event/trinity-quilters-4/2026-04-01/
LOCATION:MI
END:VEVENT
BEGIN:VEVENT
DTSTART;TZID=America/Detroit:20260329T111500
DTEND;TZID=America/Detroit:20260329T121500
DTSTAMP:20260422T174647
CREATED:20251230T161018Z
LAST-MODIFIED:20251230T163054Z
UID:10008820-1774782900-1774786500@trinitydavison.org
SUMMARY:Sunday School
DESCRIPTION:You are never too young or too old to study the Word of God. Every week at Trinity Lutheran Church we offer Sunday school classes for all ages. We look forward to you attending one of our classes this Sunday!
URL:https://trinitydavison.org/event/sunday-school-4/2026-03-29/
LOCATION:Trinity Lutheran Church\, 706 W Flint St\, Davison\, MI\, 48423\, United States
CATEGORIES:Front Page
ATTACH;FMTTYPE=image/jpeg:https://trinitydavison.org/wp-content/uploads/2025/11/heart_26893ac-scaled.jpg
ORGANIZER;CN="Vicki DeLay":MAILTO:vmomdelay@aol.com
END:VEVENT
BEGIN:VEVENT
DTSTART;TZID=America/Detroit:20260329T100000
DTEND;TZID=America/Detroit:20260329T111000
DTSTAMP:20260422T174647
CREATED:20251118T171434Z
LAST-MODIFIED:20251118T171437Z
UID:10007375-1774778400-1774782600@trinitydavison.org
SUMMARY:Worship
DESCRIPTION:We invite you to worship with us. During our time of worship we experience the Lord together through the reading of the Bible\, singing hymns\, prayer\, a sermon based on the teachings of the Bible\, and the celebration of Holy Communion. \n\n\n\nThis Week’s Worship\n\n\n\nSermon Theme:  Sermon Text:  Order of Worship Bulletin: Click Here to downloadProclaimer:   \n\n\n\nLive Stream\n\n\n\nThis service will also be live-streamed on our YouTube channel and on Facebook. \n\n\n\nLinks to our Worship Leader Schedules\n\n\n\nAcolytesEldersLectorsS.A.L.T.Ushers
URL:https://trinitydavison.org/event/worship-15-2-2/2026-03-29/
LOCATION:Trinity Lutheran Church\, 706 W Flint St\, Davison\, MI\, 48423\, United States
CATEGORIES:Front Page,Worship
ATTACH;FMTTYPE=image/jpeg:https://trinitydavison.org/wp-content/uploads/2022/11/Worship-16_9-1.jpg
END:VEVENT
BEGIN:VEVENT
DTSTART;TZID=America/Detroit:20260329T090000
DTEND;TZID=America/Detroit:20260329T095000
DTSTAMP:20260422T174647
CREATED:20251113T150352Z
LAST-MODIFIED:20251113T150352Z
UID:10007884-1774774800-1774777800@trinitydavison.org
SUMMARY:Adult Bible Study
DESCRIPTION:
URL:https://trinitydavison.org/event/adult-bible-study/2026-03-29/
LOCATION:Trinity Lutheran Church\, 706 W Flint St\, Davison\, MI\, 48423\, United States
CATEGORIES:Bible Study,Education
END:VEVENT
BEGIN:VEVENT
DTSTART;TZID=America/Detroit:20260326T130000
DTEND;TZID=America/Detroit:20260326T140000
DTSTAMP:20260422T174647
CREATED:20231207T142208Z
LAST-MODIFIED:20231207T143008Z
UID:10002910-1774530000-1774533600@trinitydavison.org
SUMMARY:Upper Room Prayer Group
DESCRIPTION:Philippians 4:6–7 (ESV) 6 do not be anxious about anything\, but in everything by prayer and supplication with thanksgiving let your requests be made known to God. 7 And the peace of God\, which surpasses all understanding\, will guard your hearts and your minds in Christ Jesus. \n\n\n\n\n\n\n\nGod’s people at Trinity Lutheran Church are a praying people. Prayer takes place in all of our worship services\, our meetings\, and our classes. Individually\, it takes place in our homes throughout the week. \n\n\n\nEach Thursday afternoon\, the Upper Room Prayer Group is a place where prayer continues among those who gather. If you need prayer\, or if you would like to gather for a time of encouraging prayer with others\, we welcome you. Come as you are. You need not be a member of our church\, but a believer in prayer and a member of God’s family.
URL:https://trinitydavison.org/event/upper-room-prayer-group-3/2026-03-26/
LOCATION:Trinity Lutheran Church\, 706 W Flint St\, Davison\, MI\, 48423\, United States
CATEGORIES:Fellowship,Front Page
ATTACH;FMTTYPE=image/jpeg:https://trinitydavison.org/wp-content/uploads/2022/11/Upper-Room-16_9.jpg
END:VEVENT
BEGIN:VEVENT
DTSTART;TZID=America/Detroit:20260325T190000
DTEND;TZID=America/Detroit:20260325T200000
DTSTAMP:20260422T174647
CREATED:20260324T143350Z
LAST-MODIFIED:20260324T143906Z
UID:10008253-1774465200-1774468800@trinitydavison.org
SUMMARY:Lent Midweek Worship
DESCRIPTION:Theme: “For Us”Proclaimer: Rev. Todd FrustiScriptures: Hebrews 2:11-18; Mark 1:9-13 \n\n\n\nThis Week’s Sermon\n\n\n\nGod’s character\, His nature\, is self-giving love. Everything Jesus does\, He does “for us.” Jesus is baptized\, fasts\, is tempted\, overcomes temptation\, and\, in doing so\, begins His work of undoing the power of the devil (Mark 1:9–13). Because Jesus suffered when tempted\, He can “help those who are being tempted” (Hebrews 2:18). He not only helps us in our weakness\, but His love for us extends all the way into the grave.  \n\n\n\nLent Midweek Dinners\n\n\n\nA delicious dinner is served in the Lower Level from 6:00 – 7:00 p.m. each Wednesday during Lent. Each is dinner is free of charge and prepared by the various ministry teams of our congregation. Bon appetite!
URL:https://trinitydavison.org/event/lent-midweek-worship-7/
LOCATION:Trinity Lutheran Church\, 706 W Flint St\, Davison\, MI\, 48423\, United States
CATEGORIES:Front Page,Worship
ATTACH;FMTTYPE=image/png:https://trinitydavison.org/wp-content/uploads/2026/03/Lent-Midweek-Worship-2.png
END:VEVENT
END:VCALENDAR