BEGIN:VCALENDAR
VERSION:2.0
PRODID:-//Trinity Lutheran Church of Davison, MI - ECPv6.15.20//NONSGML v1.0//EN
CALSCALE:GREGORIAN
METHOD:PUBLISH
X-ORIGINAL-URL:https://trinitydavison.org
X-WR-CALDESC:Events for Trinity Lutheran Church of Davison, MI
REFRESH-INTERVAL;VALUE=DURATION:PT1H
X-Robots-Tag:noindex
X-PUBLISHED-TTL:PT1H
BEGIN:VTIMEZONE
TZID:America/Detroit
BEGIN:DAYLIGHT
TZOFFSETFROM:-0500
TZOFFSETTO:-0400
TZNAME:EDT
DTSTART:20250309T070000
END:DAYLIGHT
BEGIN:STANDARD
TZOFFSETFROM:-0400
TZOFFSETTO:-0500
TZNAME:EST
DTSTART:20251102T060000
END:STANDARD
BEGIN:DAYLIGHT
TZOFFSETFROM:-0500
TZOFFSETTO:-0400
TZNAME:EDT
DTSTART:20260308T070000
END:DAYLIGHT
BEGIN:STANDARD
TZOFFSETFROM:-0400
TZOFFSETTO:-0500
TZNAME:EST
DTSTART:20261101T060000
END:STANDARD
BEGIN:DAYLIGHT
TZOFFSETFROM:-0500
TZOFFSETTO:-0400
TZNAME:EDT
DTSTART:20270314T070000
END:DAYLIGHT
BEGIN:STANDARD
TZOFFSETFROM:-0400
TZOFFSETTO:-0500
TZNAME:EST
DTSTART:20271107T060000
END:STANDARD
END:VTIMEZONE
BEGIN:VEVENT
DTSTART;TZID=America/Detroit:20260626T093000
DTEND;TZID=America/Detroit:20260626T123000
DTSTAMP:20260422T175930
CREATED:20251113T174831Z
LAST-MODIFIED:20251113T174831Z
UID:10008273-1782466200-1782477000@trinitydavison.org
SUMMARY:Vacation Bible School
DESCRIPTION:
URL:https://trinitydavison.org/event/vacation-bible-school-3/2026-06-26/
LOCATION:MI
END:VEVENT
BEGIN:VEVENT
DTSTART;TZID=America/Detroit:20260627T093000
DTEND;TZID=America/Detroit:20260627T123000
DTSTAMP:20260422T175930
CREATED:20251113T174831Z
LAST-MODIFIED:20251113T174831Z
UID:10008274-1782552600-1782563400@trinitydavison.org
SUMMARY:Vacation Bible School
DESCRIPTION:
URL:https://trinitydavison.org/event/vacation-bible-school-3/2026-06-27/
LOCATION:MI
END:VEVENT
BEGIN:VEVENT
DTSTART;TZID=America/Detroit:20260628T000000
DTEND;TZID=America/Detroit:20260701T235959
DTSTAMP:20260422T175930
CREATED:20250708T184942Z
LAST-MODIFIED:20250708T185003Z
UID:10007254-1782604800-1782950399@trinitydavison.org
SUMMARY:Michigan District Youth Gathering
DESCRIPTION:Every three years\, the Michigan District of the Lutheran Church – Missouri District hosts a spirit-filled\, engaging\, Gathering for the teens of our congregation.  \n\n\n\nTeens from Trinity will again travel to Mackinaw Island to  attend this four-day event where they will grow in their faith through Bible Study\, worship\, and serving others.
URL:https://trinitydavison.org/event/michigan-district-youth-gathering/
LOCATION:MI
END:VEVENT
BEGIN:VEVENT
DTSTART;TZID=America/Detroit:20260628T090000
DTEND;TZID=America/Detroit:20260628T095000
DTSTAMP:20260422T175930
CREATED:20251113T150352Z
LAST-MODIFIED:20251113T150352Z
UID:10007897-1782637200-1782640200@trinitydavison.org
SUMMARY:Adult Bible Study
DESCRIPTION:
URL:https://trinitydavison.org/event/adult-bible-study/2026-06-28/
LOCATION:Trinity Lutheran Church\, 706 W Flint St\, Davison\, MI\, 48423\, United States
CATEGORIES:Bible Study,Education
END:VEVENT
BEGIN:VEVENT
DTSTART;TZID=America/Detroit:20260628T093000
DTEND;TZID=America/Detroit:20260628T123000
DTSTAMP:20260422T175930
CREATED:20251113T174831Z
LAST-MODIFIED:20251113T174831Z
UID:10008275-1782639000-1782649800@trinitydavison.org
SUMMARY:Vacation Bible School
DESCRIPTION:
URL:https://trinitydavison.org/event/vacation-bible-school-3/2026-06-28/
LOCATION:MI
END:VEVENT
BEGIN:VEVENT
DTSTART;TZID=America/Detroit:20260628T100000
DTEND;TZID=America/Detroit:20260628T111000
DTSTAMP:20260422T175930
CREATED:20251118T171434Z
LAST-MODIFIED:20251118T171437Z
UID:10007388-1782640800-1782645000@trinitydavison.org
SUMMARY:Worship
DESCRIPTION:We invite you to worship with us. During our time of worship we experience the Lord together through the reading of the Bible\, singing hymns\, prayer\, a sermon based on the teachings of the Bible\, and the celebration of Holy Communion. \n\n\n\nThis Week’s Worship\n\n\n\nSermon Theme:  Sermon Text:  Order of Worship Bulletin: Click Here to downloadProclaimer:   \n\n\n\nLive Stream\n\n\n\nThis service will also be live-streamed on our YouTube channel and on Facebook. \n\n\n\nLinks to our Worship Leader Schedules\n\n\n\nAcolytesEldersLectorsS.A.L.T.Ushers
URL:https://trinitydavison.org/event/worship-15-2-2/2026-06-28/
LOCATION:Trinity Lutheran Church\, 706 W Flint St\, Davison\, MI\, 48423\, United States
CATEGORIES:Front Page,Worship
ATTACH;FMTTYPE=image/jpeg:https://trinitydavison.org/wp-content/uploads/2022/11/Worship-16_9-1.jpg
END:VEVENT
BEGIN:VEVENT
DTSTART;TZID=America/Detroit:20260628T130000
DTEND;TZID=America/Detroit:20260628T150000
DTSTAMP:20260422T175930
CREATED:20231207T192518Z
LAST-MODIFIED:20231207T193354Z
UID:10003142-1782651600-1782658800@trinitydavison.org
SUMMARY:Grief Share
DESCRIPTION:You do not need to grieve alone. Trinity’s GriefShare ministry offers grief support groups where you can be encouraged\, cared for\, listened to\, and prayed for. At GriefShare you will find others who are experiencing grief also. \n\n\n\nWhat Happens At GriefShare?\n\n\n\nAt a weekly GriefShare meeting\, group participants will view a video featuring respected counselors\, teachers\, and healthcare professionals on grief-related topics. After that is a small-group discussion to allow people a time of sharing\, support\, and personal application of what they learned on the video. Group participants will receive a book to take home filled with valuable exercises for navigating their personal grieving process. \n\n\n\nHow Much Does GriefShare Cost?\n\n\n\n\n\n\n\nThere is no cost to attend GriefShare. This is our gift to help our neighbors in the local community. All of the materials that you receive at GriefShare are also free. Of course\, donations to future GriefShare expenses are welcome and can be made to “Trinity Lutheran Church”. \n\n\n\nDo I Have to Register?\n\n\n\nNo. You can attend a GriefShare session at any time. If you are new\, you are welcome to call the church office ahead of time to confirm that GriefShare is meeting and give us an opportunity to notify you in the unlikely event that the session is cancelled or rescheduled. \n\n\n\nWhere Does GriefShare Meet?\n\n\n\nGriefShare meets in what is known as the “Titus Room”.  \n\n\n\nWhen you arrive\, enter through the north doors just off the church parking lot. Inside the church walk straight down the long hallway. You will pass a coffee pot and water fountain. At the end of the hallway\, turn left. The Titus Room will be the second door on your right. \n\n\n\n“Blessed are those who mourn for they will be comforted” (Matthew 5:4).
URL:https://trinitydavison.org/event/grief-share-2/2026-06-28/
LOCATION:Trinity Lutheran Church\, 706 W Flint St\, Davison\, MI\, 48423\, United States
CATEGORIES:Community Outreach,Front Page
ATTACH;FMTTYPE=image/jpeg:https://trinitydavison.org/wp-content/uploads/2021/09/GreifShare.jpg
END:VEVENT
BEGIN:VEVENT
DTSTART;TZID=America/Detroit:20260629T093000
DTEND;TZID=America/Detroit:20260629T123000
DTSTAMP:20260422T175930
CREATED:20251113T174831Z
LAST-MODIFIED:20251113T174831Z
UID:10008276-1782725400-1782736200@trinitydavison.org
SUMMARY:Vacation Bible School
DESCRIPTION:
URL:https://trinitydavison.org/event/vacation-bible-school-3/2026-06-29/
LOCATION:MI
END:VEVENT
BEGIN:VEVENT
DTSTART;TZID=America/Detroit:20260630T093000
DTEND;TZID=America/Detroit:20260630T123000
DTSTAMP:20260422T175930
CREATED:20251113T174831Z
LAST-MODIFIED:20251113T174831Z
UID:10008277-1782811800-1782822600@trinitydavison.org
SUMMARY:Vacation Bible School
DESCRIPTION:
URL:https://trinitydavison.org/event/vacation-bible-school-3/2026-06-30/
LOCATION:MI
END:VEVENT
BEGIN:VEVENT
DTSTART;TZID=America/Detroit:20260701T090000
DTEND;TZID=America/Detroit:20260701T120000
DTSTAMP:20260422T175930
CREATED:20251113T171705Z
LAST-MODIFIED:20251119T191000Z
UID:10008012-1782896400-1782907200@trinitydavison.org
SUMMARY:Trinity Quilters
DESCRIPTION: 
URL:https://trinitydavison.org/event/trinity-quilters-4/2026-07-01/
LOCATION:MI
END:VEVENT
BEGIN:VEVENT
DTSTART;TZID=America/Detroit:20260701T093000
DTEND;TZID=America/Detroit:20260701T123000
DTSTAMP:20260422T175930
CREATED:20251113T174831Z
LAST-MODIFIED:20251113T174831Z
UID:10008278-1782898200-1782909000@trinitydavison.org
SUMMARY:Vacation Bible School
DESCRIPTION:
URL:https://trinitydavison.org/event/vacation-bible-school-3/2026-07-01/
LOCATION:MI
END:VEVENT
BEGIN:VEVENT
DTSTART;TZID=America/Detroit:20260702T093000
DTEND;TZID=America/Detroit:20260702T123000
DTSTAMP:20260422T175930
CREATED:20251113T174831Z
LAST-MODIFIED:20251113T174831Z
UID:10008279-1782984600-1782995400@trinitydavison.org
SUMMARY:Vacation Bible School
DESCRIPTION:
URL:https://trinitydavison.org/event/vacation-bible-school-3/2026-07-02/
LOCATION:MI
END:VEVENT
BEGIN:VEVENT
DTSTART;TZID=America/Detroit:20260702T130000
DTEND;TZID=America/Detroit:20260702T140000
DTSTAMP:20260422T175930
CREATED:20231207T142208Z
LAST-MODIFIED:20231207T143008Z
UID:10002924-1782997200-1783000800@trinitydavison.org
SUMMARY:Upper Room Prayer Group
DESCRIPTION:Philippians 4:6–7 (ESV) 6 do not be anxious about anything\, but in everything by prayer and supplication with thanksgiving let your requests be made known to God. 7 And the peace of God\, which surpasses all understanding\, will guard your hearts and your minds in Christ Jesus. \n\n\n\n\n\n\n\nGod’s people at Trinity Lutheran Church are a praying people. Prayer takes place in all of our worship services\, our meetings\, and our classes. Individually\, it takes place in our homes throughout the week. \n\n\n\nEach Thursday afternoon\, the Upper Room Prayer Group is a place where prayer continues among those who gather. If you need prayer\, or if you would like to gather for a time of encouraging prayer with others\, we welcome you. Come as you are. You need not be a member of our church\, but a believer in prayer and a member of God’s family.
URL:https://trinitydavison.org/event/upper-room-prayer-group-3/2026-07-02/
LOCATION:Trinity Lutheran Church\, 706 W Flint St\, Davison\, MI\, 48423\, United States
CATEGORIES:Fellowship,Front Page
ATTACH;FMTTYPE=image/jpeg:https://trinitydavison.org/wp-content/uploads/2022/11/Upper-Room-16_9.jpg
END:VEVENT
BEGIN:VEVENT
DTSTART;TZID=America/Detroit:20260703T093000
DTEND;TZID=America/Detroit:20260703T123000
DTSTAMP:20260422T175930
CREATED:20251113T174831Z
LAST-MODIFIED:20251113T174831Z
UID:10008280-1783071000-1783081800@trinitydavison.org
SUMMARY:Vacation Bible School
DESCRIPTION:
URL:https://trinitydavison.org/event/vacation-bible-school-3/2026-07-03/
LOCATION:MI
END:VEVENT
BEGIN:VEVENT
DTSTART;VALUE=DATE:20260704
DTEND;VALUE=DATE:20260705
DTSTAMP:20260422T175930
CREATED:20230613T170113Z
LAST-MODIFIED:20230613T170113Z
UID:10003398-1783123200-1783209599@trinitydavison.org
SUMMARY:Church Office CLOSED
DESCRIPTION:Trinity’s church office is closed on July 4 in observance of Independence Day.
URL:https://trinitydavison.org/event/church-office-closed/2026-07-04/
LOCATION:MI
CATEGORIES:Front Page
ATTACH;FMTTYPE=image/jpeg:https://trinitydavison.org/wp-content/uploads/2023/06/eagle_22611ac-scaled.jpg
END:VEVENT
BEGIN:VEVENT
DTSTART;TZID=America/Detroit:20260704T093000
DTEND;TZID=America/Detroit:20260704T123000
DTSTAMP:20260422T175930
CREATED:20251113T174831Z
LAST-MODIFIED:20251113T174831Z
UID:10008281-1783157400-1783168200@trinitydavison.org
SUMMARY:Vacation Bible School
DESCRIPTION:
URL:https://trinitydavison.org/event/vacation-bible-school-3/2026-07-04/
LOCATION:MI
END:VEVENT
BEGIN:VEVENT
DTSTART;TZID=America/Detroit:20260705T090000
DTEND;TZID=America/Detroit:20260705T095000
DTSTAMP:20260422T175930
CREATED:20251113T150352Z
LAST-MODIFIED:20251113T150352Z
UID:10007898-1783242000-1783245000@trinitydavison.org
SUMMARY:Adult Bible Study
DESCRIPTION:
URL:https://trinitydavison.org/event/adult-bible-study/2026-07-05/
LOCATION:Trinity Lutheran Church\, 706 W Flint St\, Davison\, MI\, 48423\, United States
CATEGORIES:Bible Study,Education
END:VEVENT
BEGIN:VEVENT
DTSTART;TZID=America/Detroit:20260705T093000
DTEND;TZID=America/Detroit:20260705T123000
DTSTAMP:20260422T175930
CREATED:20251113T174831Z
LAST-MODIFIED:20251113T174831Z
UID:10008282-1783243800-1783254600@trinitydavison.org
SUMMARY:Vacation Bible School
DESCRIPTION:
URL:https://trinitydavison.org/event/vacation-bible-school-3/2026-07-05/
LOCATION:MI
END:VEVENT
BEGIN:VEVENT
DTSTART;TZID=America/Detroit:20260705T100000
DTEND;TZID=America/Detroit:20260705T111000
DTSTAMP:20260422T175930
CREATED:20251118T171434Z
LAST-MODIFIED:20251118T171437Z
UID:10007389-1783245600-1783249800@trinitydavison.org
SUMMARY:Worship
DESCRIPTION:We invite you to worship with us. During our time of worship we experience the Lord together through the reading of the Bible\, singing hymns\, prayer\, a sermon based on the teachings of the Bible\, and the celebration of Holy Communion. \n\n\n\nThis Week’s Worship\n\n\n\nSermon Theme:  Sermon Text:  Order of Worship Bulletin: Click Here to downloadProclaimer:   \n\n\n\nLive Stream\n\n\n\nThis service will also be live-streamed on our YouTube channel and on Facebook. \n\n\n\nLinks to our Worship Leader Schedules\n\n\n\nAcolytesEldersLectorsS.A.L.T.Ushers
URL:https://trinitydavison.org/event/worship-15-2-2/2026-07-05/
LOCATION:Trinity Lutheran Church\, 706 W Flint St\, Davison\, MI\, 48423\, United States
CATEGORIES:Front Page,Worship
ATTACH;FMTTYPE=image/jpeg:https://trinitydavison.org/wp-content/uploads/2022/11/Worship-16_9-1.jpg
END:VEVENT
BEGIN:VEVENT
DTSTART;TZID=America/Detroit:20260705T130000
DTEND;TZID=America/Detroit:20260705T150000
DTSTAMP:20260422T175930
CREATED:20231207T192518Z
LAST-MODIFIED:20231207T193354Z
UID:10003143-1783256400-1783263600@trinitydavison.org
SUMMARY:Grief Share
DESCRIPTION:You do not need to grieve alone. Trinity’s GriefShare ministry offers grief support groups where you can be encouraged\, cared for\, listened to\, and prayed for. At GriefShare you will find others who are experiencing grief also. \n\n\n\nWhat Happens At GriefShare?\n\n\n\nAt a weekly GriefShare meeting\, group participants will view a video featuring respected counselors\, teachers\, and healthcare professionals on grief-related topics. After that is a small-group discussion to allow people a time of sharing\, support\, and personal application of what they learned on the video. Group participants will receive a book to take home filled with valuable exercises for navigating their personal grieving process. \n\n\n\nHow Much Does GriefShare Cost?\n\n\n\n\n\n\n\nThere is no cost to attend GriefShare. This is our gift to help our neighbors in the local community. All of the materials that you receive at GriefShare are also free. Of course\, donations to future GriefShare expenses are welcome and can be made to “Trinity Lutheran Church”. \n\n\n\nDo I Have to Register?\n\n\n\nNo. You can attend a GriefShare session at any time. If you are new\, you are welcome to call the church office ahead of time to confirm that GriefShare is meeting and give us an opportunity to notify you in the unlikely event that the session is cancelled or rescheduled. \n\n\n\nWhere Does GriefShare Meet?\n\n\n\nGriefShare meets in what is known as the “Titus Room”.  \n\n\n\nWhen you arrive\, enter through the north doors just off the church parking lot. Inside the church walk straight down the long hallway. You will pass a coffee pot and water fountain. At the end of the hallway\, turn left. The Titus Room will be the second door on your right. \n\n\n\n“Blessed are those who mourn for they will be comforted” (Matthew 5:4).
URL:https://trinitydavison.org/event/grief-share-2/2026-07-05/
LOCATION:Trinity Lutheran Church\, 706 W Flint St\, Davison\, MI\, 48423\, United States
CATEGORIES:Community Outreach,Front Page
ATTACH;FMTTYPE=image/jpeg:https://trinitydavison.org/wp-content/uploads/2021/09/GreifShare.jpg
END:VEVENT
BEGIN:VEVENT
DTSTART;TZID=America/Detroit:20260706T093000
DTEND;TZID=America/Detroit:20260706T123000
DTSTAMP:20260422T175930
CREATED:20251113T174831Z
LAST-MODIFIED:20251113T174831Z
UID:10008283-1783330200-1783341000@trinitydavison.org
SUMMARY:Vacation Bible School
DESCRIPTION:
URL:https://trinitydavison.org/event/vacation-bible-school-3/2026-07-06/
LOCATION:MI
END:VEVENT
BEGIN:VEVENT
DTSTART;TZID=America/Detroit:20260706T180000
DTEND;TZID=America/Detroit:20260706T190000
DTSTAMP:20260422T175930
CREATED:20260406T155357Z
LAST-MODIFIED:20260406T155410Z
UID:10009269-1783360800-1783364400@trinitydavison.org
SUMMARY:Men's Bible Study
DESCRIPTION:Men of all ages are invited to join us for the study of God’s Word. We meet in the Titus Room on the first and third Mondays of each month.
URL:https://trinitydavison.org/event/mens-bible-study-21/2026-07-06/
LOCATION:Trinity Lutheran Church\, 706 W Flint St\, Davison\, MI\, 48423\, United States
CATEGORIES:Front Page,Men's Bible Study
ATTACH;FMTTYPE=image/jpeg:https://trinitydavison.org/wp-content/uploads/2026/01/bible_30835bc-scaled.jpg
END:VEVENT
BEGIN:VEVENT
DTSTART;TZID=America/Detroit:20260707T090000
DTEND;TZID=America/Detroit:20260707T110000
DTSTAMP:20260422T175930
CREATED:20260129T171205Z
LAST-MODIFIED:20260129T174339Z
UID:10001005-1783414800-1783422000@trinitydavison.org
SUMMARY:Work Bee
DESCRIPTION:
URL:https://trinitydavison.org/event/work-bee-4/2026-07-07/
LOCATION:Trinity Lutheran Church\, 706 W Flint St\, Davison\, MI\, 48423\, United States
CATEGORIES:Ministry Teams
END:VEVENT
BEGIN:VEVENT
DTSTART;TZID=America/Detroit:20260707T093000
DTEND;TZID=America/Detroit:20260707T123000
DTSTAMP:20260422T175930
CREATED:20251113T174831Z
LAST-MODIFIED:20251113T174831Z
UID:10008284-1783416600-1783427400@trinitydavison.org
SUMMARY:Vacation Bible School
DESCRIPTION:
URL:https://trinitydavison.org/event/vacation-bible-school-3/2026-07-07/
LOCATION:MI
END:VEVENT
BEGIN:VEVENT
DTSTART;TZID=America/Detroit:20260708T090000
DTEND;TZID=America/Detroit:20260708T120000
DTSTAMP:20260422T175930
CREATED:20251113T171705Z
LAST-MODIFIED:20251119T191000Z
UID:10008013-1783501200-1783512000@trinitydavison.org
SUMMARY:Trinity Quilters
DESCRIPTION: 
URL:https://trinitydavison.org/event/trinity-quilters-4/2026-07-08/
LOCATION:MI
END:VEVENT
BEGIN:VEVENT
DTSTART;TZID=America/Detroit:20260708T093000
DTEND;TZID=America/Detroit:20260708T123000
DTSTAMP:20260422T175930
CREATED:20251113T174831Z
LAST-MODIFIED:20251113T174831Z
UID:10008285-1783503000-1783513800@trinitydavison.org
SUMMARY:Vacation Bible School
DESCRIPTION:
URL:https://trinitydavison.org/event/vacation-bible-school-3/2026-07-08/
LOCATION:MI
END:VEVENT
BEGIN:VEVENT
DTSTART;TZID=America/Detroit:20260709T093000
DTEND;TZID=America/Detroit:20260709T123000
DTSTAMP:20260422T175930
CREATED:20251113T174831Z
LAST-MODIFIED:20251113T174831Z
UID:10008286-1783589400-1783600200@trinitydavison.org
SUMMARY:Vacation Bible School
DESCRIPTION:
URL:https://trinitydavison.org/event/vacation-bible-school-3/2026-07-09/
LOCATION:MI
END:VEVENT
BEGIN:VEVENT
DTSTART;TZID=America/Detroit:20260709T130000
DTEND;TZID=America/Detroit:20260709T140000
DTSTAMP:20260422T175930
CREATED:20231207T142208Z
LAST-MODIFIED:20231207T143008Z
UID:10002925-1783602000-1783605600@trinitydavison.org
SUMMARY:Upper Room Prayer Group
DESCRIPTION:Philippians 4:6–7 (ESV) 6 do not be anxious about anything\, but in everything by prayer and supplication with thanksgiving let your requests be made known to God. 7 And the peace of God\, which surpasses all understanding\, will guard your hearts and your minds in Christ Jesus. \n\n\n\n\n\n\n\nGod’s people at Trinity Lutheran Church are a praying people. Prayer takes place in all of our worship services\, our meetings\, and our classes. Individually\, it takes place in our homes throughout the week. \n\n\n\nEach Thursday afternoon\, the Upper Room Prayer Group is a place where prayer continues among those who gather. If you need prayer\, or if you would like to gather for a time of encouraging prayer with others\, we welcome you. Come as you are. You need not be a member of our church\, but a believer in prayer and a member of God’s family.
URL:https://trinitydavison.org/event/upper-room-prayer-group-3/2026-07-09/
LOCATION:Trinity Lutheran Church\, 706 W Flint St\, Davison\, MI\, 48423\, United States
CATEGORIES:Fellowship,Front Page
ATTACH;FMTTYPE=image/jpeg:https://trinitydavison.org/wp-content/uploads/2022/11/Upper-Room-16_9.jpg
END:VEVENT
BEGIN:VEVENT
DTSTART;TZID=America/Detroit:20260710T093000
DTEND;TZID=America/Detroit:20260710T123000
DTSTAMP:20260422T175930
CREATED:20251113T174831Z
LAST-MODIFIED:20251113T174831Z
UID:10008287-1783675800-1783686600@trinitydavison.org
SUMMARY:Vacation Bible School
DESCRIPTION:
URL:https://trinitydavison.org/event/vacation-bible-school-3/2026-07-10/
LOCATION:MI
END:VEVENT
BEGIN:VEVENT
DTSTART;TZID=America/Detroit:20260711T083000
DTEND;TZID=America/Detroit:20260711T100000
DTSTAMP:20260422T175930
CREATED:20251217T190035Z
LAST-MODIFIED:20260203T194325Z
UID:10007328-1783758600-1783764000@trinitydavison.org
SUMMARY:Men's Fellowship Breakfast
DESCRIPTION:We look forward to welcoming you to our monthly Men’s Breakfast Fellowship. Men and boys of all ages are welcome to this free event that includes a hearty\, delicious breakfast\, and good conversations with other guys from all walks of life. Each time we meet we will conclude with a reading from the Bible\, a brief devotion\, and a prayer. \n\n\n\nThank you in advance for letting us know you’re coming . . . (this helps us make sure we have enough breakfast for everyone while not wasting good food by making too much). Thanks again! \n\n\n\nSee you Saturday morning at 8:30 a.m.
URL:https://trinitydavison.org/event/mens-breakfast-fellowship-3/2026-07-11/
LOCATION:Trinity Lutheran Church\, 706 W Flint St\, Davison\, MI\, 48423\, United States
END:VEVENT
END:VCALENDAR