BEGIN:VCALENDAR
VERSION:2.0
PRODID:-//Trinity Lutheran Church of Davison, MI - ECPv6.15.20//NONSGML v1.0//EN
CALSCALE:GREGORIAN
METHOD:PUBLISH
X-ORIGINAL-URL:https://trinitydavison.org
X-WR-CALDESC:Events for Trinity Lutheran Church of Davison, MI
REFRESH-INTERVAL;VALUE=DURATION:PT1H
X-Robots-Tag:noindex
X-PUBLISHED-TTL:PT1H
BEGIN:VTIMEZONE
TZID:America/Detroit
BEGIN:DAYLIGHT
TZOFFSETFROM:-0500
TZOFFSETTO:-0400
TZNAME:EDT
DTSTART:20250309T070000
END:DAYLIGHT
BEGIN:STANDARD
TZOFFSETFROM:-0400
TZOFFSETTO:-0500
TZNAME:EST
DTSTART:20251102T060000
END:STANDARD
BEGIN:DAYLIGHT
TZOFFSETFROM:-0500
TZOFFSETTO:-0400
TZNAME:EDT
DTSTART:20260308T070000
END:DAYLIGHT
BEGIN:STANDARD
TZOFFSETFROM:-0400
TZOFFSETTO:-0500
TZNAME:EST
DTSTART:20261101T060000
END:STANDARD
BEGIN:DAYLIGHT
TZOFFSETFROM:-0500
TZOFFSETTO:-0400
TZNAME:EDT
DTSTART:20270314T070000
END:DAYLIGHT
BEGIN:STANDARD
TZOFFSETFROM:-0400
TZOFFSETTO:-0500
TZNAME:EST
DTSTART:20271107T060000
END:STANDARD
END:VTIMEZONE
BEGIN:VEVENT
DTSTART;TZID=America/Detroit:20261125T093000
DTEND;TZID=America/Detroit:20261125T123000
DTSTAMP:20260419T093504
CREATED:20251113T174831Z
LAST-MODIFIED:20251113T174831Z
UID:10008425-1795599000-1795609800@trinitydavison.org
SUMMARY:Vacation Bible School
DESCRIPTION:
URL:https://trinitydavison.org/event/vacation-bible-school-3/2026-11-25/
END:VEVENT
BEGIN:VEVENT
DTSTART;TZID=America/Detroit:20261126T093000
DTEND;TZID=America/Detroit:20261126T123000
DTSTAMP:20260419T093504
CREATED:20251113T174831Z
LAST-MODIFIED:20251113T174831Z
UID:10008426-1795685400-1795696200@trinitydavison.org
SUMMARY:Vacation Bible School
DESCRIPTION:
URL:https://trinitydavison.org/event/vacation-bible-school-3/2026-11-26/
END:VEVENT
BEGIN:VEVENT
DTSTART;TZID=America/Detroit:20261127T093000
DTEND;TZID=America/Detroit:20261127T123000
DTSTAMP:20260419T093504
CREATED:20251113T174831Z
LAST-MODIFIED:20251113T174831Z
UID:10008427-1795771800-1795782600@trinitydavison.org
SUMMARY:Vacation Bible School
DESCRIPTION:
URL:https://trinitydavison.org/event/vacation-bible-school-3/2026-11-27/
END:VEVENT
BEGIN:VEVENT
DTSTART;TZID=America/Detroit:20261128T093000
DTEND;TZID=America/Detroit:20261128T123000
DTSTAMP:20260419T093504
CREATED:20251113T174831Z
LAST-MODIFIED:20251113T174831Z
UID:10008428-1795858200-1795869000@trinitydavison.org
SUMMARY:Vacation Bible School
DESCRIPTION:
URL:https://trinitydavison.org/event/vacation-bible-school-3/2026-11-28/
END:VEVENT
BEGIN:VEVENT
DTSTART;TZID=America/Detroit:20261129T093000
DTEND;TZID=America/Detroit:20261129T123000
DTSTAMP:20260419T093504
CREATED:20251113T174831Z
LAST-MODIFIED:20251113T174831Z
UID:10008429-1795944600-1795955400@trinitydavison.org
SUMMARY:Vacation Bible School
DESCRIPTION:
URL:https://trinitydavison.org/event/vacation-bible-school-3/2026-11-29/
END:VEVENT
BEGIN:VEVENT
DTSTART;TZID=America/Detroit:20261130T093000
DTEND;TZID=America/Detroit:20261130T123000
DTSTAMP:20260419T093504
CREATED:20251113T174831Z
LAST-MODIFIED:20251113T174831Z
UID:10008430-1796031000-1796041800@trinitydavison.org
SUMMARY:Vacation Bible School
DESCRIPTION:
URL:https://trinitydavison.org/event/vacation-bible-school-3/2026-11-30/
END:VEVENT
BEGIN:VEVENT
DTSTART;TZID=America/Detroit:20261201T093000
DTEND;TZID=America/Detroit:20261201T123000
DTSTAMP:20260419T093504
CREATED:20251113T174831Z
LAST-MODIFIED:20251113T174831Z
UID:10008431-1796117400-1796128200@trinitydavison.org
SUMMARY:Vacation Bible School
DESCRIPTION:
URL:https://trinitydavison.org/event/vacation-bible-school-3/2026-12-01/
END:VEVENT
BEGIN:VEVENT
DTSTART;TZID=America/Detroit:20261202T093000
DTEND;TZID=America/Detroit:20261202T123000
DTSTAMP:20260419T093504
CREATED:20251113T174831Z
LAST-MODIFIED:20251113T174831Z
UID:10008432-1796203800-1796214600@trinitydavison.org
SUMMARY:Vacation Bible School
DESCRIPTION:
URL:https://trinitydavison.org/event/vacation-bible-school-3/2026-12-02/
END:VEVENT
BEGIN:VEVENT
DTSTART;TZID=America/Detroit:20261203T093000
DTEND;TZID=America/Detroit:20261203T123000
DTSTAMP:20260419T093504
CREATED:20251113T174831Z
LAST-MODIFIED:20251113T174831Z
UID:10008433-1796290200-1796301000@trinitydavison.org
SUMMARY:Vacation Bible School
DESCRIPTION:
URL:https://trinitydavison.org/event/vacation-bible-school-3/2026-12-03/
END:VEVENT
BEGIN:VEVENT
DTSTART;TZID=America/Detroit:20261204T093000
DTEND;TZID=America/Detroit:20261204T123000
DTSTAMP:20260419T093504
CREATED:20251113T174831Z
LAST-MODIFIED:20251113T174831Z
UID:10008434-1796376600-1796387400@trinitydavison.org
SUMMARY:Vacation Bible School
DESCRIPTION:
URL:https://trinitydavison.org/event/vacation-bible-school-3/2026-12-04/
END:VEVENT
BEGIN:VEVENT
DTSTART;TZID=America/Detroit:20261205T093000
DTEND;TZID=America/Detroit:20261205T123000
DTSTAMP:20260419T093504
CREATED:20251113T174831Z
LAST-MODIFIED:20251113T174831Z
UID:10008435-1796463000-1796473800@trinitydavison.org
SUMMARY:Vacation Bible School
DESCRIPTION:
URL:https://trinitydavison.org/event/vacation-bible-school-3/2026-12-05/
END:VEVENT
BEGIN:VEVENT
DTSTART;TZID=America/Detroit:20261206T093000
DTEND;TZID=America/Detroit:20261206T123000
DTSTAMP:20260419T093504
CREATED:20251113T174831Z
LAST-MODIFIED:20251113T174831Z
UID:10008436-1796549400-1796560200@trinitydavison.org
SUMMARY:Vacation Bible School
DESCRIPTION:
URL:https://trinitydavison.org/event/vacation-bible-school-3/2026-12-06/
END:VEVENT
BEGIN:VEVENT
DTSTART;TZID=America/Detroit:20261207T093000
DTEND;TZID=America/Detroit:20261207T123000
DTSTAMP:20260419T093504
CREATED:20251113T174831Z
LAST-MODIFIED:20251113T174831Z
UID:10008437-1796635800-1796646600@trinitydavison.org
SUMMARY:Vacation Bible School
DESCRIPTION:
URL:https://trinitydavison.org/event/vacation-bible-school-3/2026-12-07/
END:VEVENT
BEGIN:VEVENT
DTSTART;TZID=America/Detroit:20261208T093000
DTEND;TZID=America/Detroit:20261208T123000
DTSTAMP:20260419T093504
CREATED:20251113T174831Z
LAST-MODIFIED:20251113T174831Z
UID:10008438-1796722200-1796733000@trinitydavison.org
SUMMARY:Vacation Bible School
DESCRIPTION:
URL:https://trinitydavison.org/event/vacation-bible-school-3/2026-12-08/
END:VEVENT
BEGIN:VEVENT
DTSTART;TZID=America/Detroit:20261209T093000
DTEND;TZID=America/Detroit:20261209T123000
DTSTAMP:20260419T093504
CREATED:20251113T174831Z
LAST-MODIFIED:20251113T174831Z
UID:10008439-1796808600-1796819400@trinitydavison.org
SUMMARY:Vacation Bible School
DESCRIPTION:
URL:https://trinitydavison.org/event/vacation-bible-school-3/2026-12-09/
END:VEVENT
BEGIN:VEVENT
DTSTART;TZID=America/Detroit:20261210T093000
DTEND;TZID=America/Detroit:20261210T123000
DTSTAMP:20260419T093504
CREATED:20251113T174831Z
LAST-MODIFIED:20251113T174831Z
UID:10008440-1796895000-1796905800@trinitydavison.org
SUMMARY:Vacation Bible School
DESCRIPTION:
URL:https://trinitydavison.org/event/vacation-bible-school-3/2026-12-10/
END:VEVENT
BEGIN:VEVENT
DTSTART;TZID=America/Detroit:20261211T093000
DTEND;TZID=America/Detroit:20261211T123000
DTSTAMP:20260419T093504
CREATED:20251113T174831Z
LAST-MODIFIED:20251113T174831Z
UID:10008441-1796981400-1796992200@trinitydavison.org
SUMMARY:Vacation Bible School
DESCRIPTION:
URL:https://trinitydavison.org/event/vacation-bible-school-3/2026-12-11/
END:VEVENT
BEGIN:VEVENT
DTSTART;TZID=America/Detroit:20261212T093000
DTEND;TZID=America/Detroit:20261212T123000
DTSTAMP:20260419T093504
CREATED:20251113T174831Z
LAST-MODIFIED:20251113T174831Z
UID:10008442-1797067800-1797078600@trinitydavison.org
SUMMARY:Vacation Bible School
DESCRIPTION:
URL:https://trinitydavison.org/event/vacation-bible-school-3/2026-12-12/
END:VEVENT
BEGIN:VEVENT
DTSTART;TZID=America/Detroit:20261213T093000
DTEND;TZID=America/Detroit:20261213T123000
DTSTAMP:20260419T093504
CREATED:20251113T174831Z
LAST-MODIFIED:20251113T174831Z
UID:10008443-1797154200-1797165000@trinitydavison.org
SUMMARY:Vacation Bible School
DESCRIPTION:
URL:https://trinitydavison.org/event/vacation-bible-school-3/2026-12-13/
END:VEVENT
BEGIN:VEVENT
DTSTART;TZID=America/Detroit:20261214T093000
DTEND;TZID=America/Detroit:20261214T123000
DTSTAMP:20260419T093504
CREATED:20251113T174831Z
LAST-MODIFIED:20251113T174831Z
UID:10008444-1797240600-1797251400@trinitydavison.org
SUMMARY:Vacation Bible School
DESCRIPTION:
URL:https://trinitydavison.org/event/vacation-bible-school-3/2026-12-14/
END:VEVENT
BEGIN:VEVENT
DTSTART;TZID=America/Detroit:20261215T093000
DTEND;TZID=America/Detroit:20261215T123000
DTSTAMP:20260419T093504
CREATED:20251113T174831Z
LAST-MODIFIED:20251113T174831Z
UID:10008445-1797327000-1797337800@trinitydavison.org
SUMMARY:Vacation Bible School
DESCRIPTION:
URL:https://trinitydavison.org/event/vacation-bible-school-3/2026-12-15/
END:VEVENT
BEGIN:VEVENT
DTSTART;TZID=America/Detroit:20261216T093000
DTEND;TZID=America/Detroit:20261216T123000
DTSTAMP:20260419T093504
CREATED:20251113T174831Z
LAST-MODIFIED:20251113T174831Z
UID:10008446-1797413400-1797424200@trinitydavison.org
SUMMARY:Vacation Bible School
DESCRIPTION:
URL:https://trinitydavison.org/event/vacation-bible-school-3/2026-12-16/
END:VEVENT
BEGIN:VEVENT
DTSTART;TZID=America/Detroit:20261217T093000
DTEND;TZID=America/Detroit:20261217T123000
DTSTAMP:20260419T093504
CREATED:20251113T174831Z
LAST-MODIFIED:20251113T174831Z
UID:10008447-1797499800-1797510600@trinitydavison.org
SUMMARY:Vacation Bible School
DESCRIPTION:
URL:https://trinitydavison.org/event/vacation-bible-school-3/2026-12-17/
END:VEVENT
BEGIN:VEVENT
DTSTART;TZID=America/Detroit:20261218T093000
DTEND;TZID=America/Detroit:20261218T123000
DTSTAMP:20260419T093504
CREATED:20251113T174831Z
LAST-MODIFIED:20251113T174831Z
UID:10008448-1797586200-1797597000@trinitydavison.org
SUMMARY:Vacation Bible School
DESCRIPTION:
URL:https://trinitydavison.org/event/vacation-bible-school-3/2026-12-18/
END:VEVENT
BEGIN:VEVENT
DTSTART;TZID=America/Detroit:20261219T093000
DTEND;TZID=America/Detroit:20261219T123000
DTSTAMP:20260419T093504
CREATED:20251113T174831Z
LAST-MODIFIED:20251113T174831Z
UID:10008449-1797672600-1797683400@trinitydavison.org
SUMMARY:Vacation Bible School
DESCRIPTION:
URL:https://trinitydavison.org/event/vacation-bible-school-3/2026-12-19/
END:VEVENT
BEGIN:VEVENT
DTSTART;TZID=America/Detroit:20261220T093000
DTEND;TZID=America/Detroit:20261220T123000
DTSTAMP:20260419T093504
CREATED:20251113T174831Z
LAST-MODIFIED:20251113T174831Z
UID:10008450-1797759000-1797769800@trinitydavison.org
SUMMARY:Vacation Bible School
DESCRIPTION:
URL:https://trinitydavison.org/event/vacation-bible-school-3/2026-12-20/
END:VEVENT
BEGIN:VEVENT
DTSTART;TZID=America/Detroit:20261221T093000
DTEND;TZID=America/Detroit:20261221T123000
DTSTAMP:20260419T093504
CREATED:20251113T174831Z
LAST-MODIFIED:20251113T174831Z
UID:10008451-1797845400-1797856200@trinitydavison.org
SUMMARY:Vacation Bible School
DESCRIPTION:
URL:https://trinitydavison.org/event/vacation-bible-school-3/2026-12-21/
END:VEVENT
BEGIN:VEVENT
DTSTART;TZID=America/Detroit:20261222T093000
DTEND;TZID=America/Detroit:20261222T123000
DTSTAMP:20260419T093504
CREATED:20251113T174831Z
LAST-MODIFIED:20251113T174831Z
UID:10008452-1797931800-1797942600@trinitydavison.org
SUMMARY:Vacation Bible School
DESCRIPTION:
URL:https://trinitydavison.org/event/vacation-bible-school-3/2026-12-22/
END:VEVENT
BEGIN:VEVENT
DTSTART;TZID=America/Detroit:20261223T093000
DTEND;TZID=America/Detroit:20261223T123000
DTSTAMP:20260419T093504
CREATED:20251113T174831Z
LAST-MODIFIED:20251113T174831Z
UID:10008453-1798018200-1798029000@trinitydavison.org
SUMMARY:Vacation Bible School
DESCRIPTION:
URL:https://trinitydavison.org/event/vacation-bible-school-3/2026-12-23/
END:VEVENT
BEGIN:VEVENT
DTSTART;TZID=America/Detroit:20261224T093000
DTEND;TZID=America/Detroit:20261224T123000
DTSTAMP:20260419T093504
CREATED:20251113T174831Z
LAST-MODIFIED:20251113T174831Z
UID:10008454-1798104600-1798115400@trinitydavison.org
SUMMARY:Vacation Bible School
DESCRIPTION:
URL:https://trinitydavison.org/event/vacation-bible-school-3/2026-12-24/
END:VEVENT
END:VCALENDAR