BEGIN:VCALENDAR
VERSION:2.0
PRODID:-//Trinity Lutheran Church of Davison, MI - ECPv6.15.20//NONSGML v1.0//EN
CALSCALE:GREGORIAN
METHOD:PUBLISH
X-ORIGINAL-URL:https://trinitydavison.org
X-WR-CALDESC:Events for Trinity Lutheran Church of Davison, MI
REFRESH-INTERVAL;VALUE=DURATION:PT1H
X-Robots-Tag:noindex
X-PUBLISHED-TTL:PT1H
BEGIN:VTIMEZONE
TZID:America/Detroit
BEGIN:DAYLIGHT
TZOFFSETFROM:-0500
TZOFFSETTO:-0400
TZNAME:EDT
DTSTART:20250309T070000
END:DAYLIGHT
BEGIN:STANDARD
TZOFFSETFROM:-0400
TZOFFSETTO:-0500
TZNAME:EST
DTSTART:20251102T060000
END:STANDARD
BEGIN:DAYLIGHT
TZOFFSETFROM:-0500
TZOFFSETTO:-0400
TZNAME:EDT
DTSTART:20260308T070000
END:DAYLIGHT
BEGIN:STANDARD
TZOFFSETFROM:-0400
TZOFFSETTO:-0500
TZNAME:EST
DTSTART:20261101T060000
END:STANDARD
BEGIN:DAYLIGHT
TZOFFSETFROM:-0500
TZOFFSETTO:-0400
TZNAME:EDT
DTSTART:20270314T070000
END:DAYLIGHT
BEGIN:STANDARD
TZOFFSETFROM:-0400
TZOFFSETTO:-0500
TZNAME:EST
DTSTART:20271107T060000
END:STANDARD
END:VTIMEZONE
BEGIN:VEVENT
DTSTART;TZID=America/Detroit:20260101T000000
DTEND;TZID=America/Detroit:20260101T235959
DTSTAMP:20260421T222619
CREATED:20251230T130342Z
LAST-MODIFIED:20251230T130803Z
UID:10008808-1767225600-1767311999@trinitydavison.org
SUMMARY:Happy Year!
DESCRIPTION:We wish you and your loved ones a most blessed New Year! \n\n\n\nOur church offices will be closed all day on New Year’s Day so that our staff can celebrate the holiday with their loved ones.
URL:https://trinitydavison.org/event/happy-year/
LOCATION:MI
CATEGORIES:Front Page
ATTACH;FMTTYPE=image/jpeg:https://trinitydavison.org/wp-content/uploads/2025/12/gold_30648ac-scaled.jpg
END:VEVENT
BEGIN:VEVENT
DTSTART;TZID=America/Detroit:20260104T090000
DTEND;TZID=America/Detroit:20260104T095000
DTSTAMP:20260421T222619
CREATED:20251113T150352Z
LAST-MODIFIED:20251113T150352Z
UID:10007872-1767517200-1767520200@trinitydavison.org
SUMMARY:Adult Bible Study
DESCRIPTION:
URL:https://trinitydavison.org/event/adult-bible-study/2026-01-04/
LOCATION:Trinity Lutheran Church\, 706 W Flint St\, Davison\, MI\, 48423\, United States
CATEGORIES:Bible Study,Education
END:VEVENT
BEGIN:VEVENT
DTSTART;TZID=America/Detroit:20260104T100000
DTEND;TZID=America/Detroit:20260104T111000
DTSTAMP:20260421T222619
CREATED:20251118T171434Z
LAST-MODIFIED:20251118T171437Z
UID:10007363-1767520800-1767525000@trinitydavison.org
SUMMARY:Worship
DESCRIPTION:We invite you to worship with us. During our time of worship we experience the Lord together through the reading of the Bible\, singing hymns\, prayer\, a sermon based on the teachings of the Bible\, and the celebration of Holy Communion. \n\n\n\nThis Week’s Worship\n\n\n\nSermon Theme:  Sermon Text:  Order of Worship Bulletin: Click Here to downloadProclaimer:   \n\n\n\nLive Stream\n\n\n\nThis service will also be live-streamed on our YouTube channel and on Facebook. \n\n\n\nLinks to our Worship Leader Schedules\n\n\n\nAcolytesEldersLectorsS.A.L.T.Ushers
URL:https://trinitydavison.org/event/worship-15-2-2/2026-01-04/
LOCATION:Trinity Lutheran Church\, 706 W Flint St\, Davison\, MI\, 48423\, United States
CATEGORIES:Front Page,Worship
ATTACH;FMTTYPE=image/jpeg:https://trinitydavison.org/wp-content/uploads/2022/11/Worship-16_9-1.jpg
END:VEVENT
BEGIN:VEVENT
DTSTART;TZID=America/Detroit:20260104T111500
DTEND;TZID=America/Detroit:20260104T121500
DTSTAMP:20260421T222619
CREATED:20251230T161018Z
LAST-MODIFIED:20251230T163054Z
UID:10008809-1767525300-1767528900@trinitydavison.org
SUMMARY:Sunday School
DESCRIPTION:You are never too young or too old to study the Word of God. Every week at Trinity Lutheran Church we offer Sunday school classes for all ages. We look forward to you attending one of our classes this Sunday!
URL:https://trinitydavison.org/event/sunday-school-4/2026-01-04/
LOCATION:Trinity Lutheran Church\, 706 W Flint St\, Davison\, MI\, 48423\, United States
CATEGORIES:Front Page
ATTACH;FMTTYPE=image/jpeg:https://trinitydavison.org/wp-content/uploads/2025/11/heart_26893ac-scaled.jpg
ORGANIZER;CN="Vicki DeLay":MAILTO:vmomdelay@aol.com
END:VEVENT
BEGIN:VEVENT
DTSTART;TZID=America/Detroit:20260106T090000
DTEND;TZID=America/Detroit:20260106T110000
DTSTAMP:20260421T222619
CREATED:20231220T150638Z
LAST-MODIFIED:20231220T150645Z
UID:10000999-1767690000-1767697200@trinitydavison.org
SUMMARY:Work Bee
DESCRIPTION:
URL:https://trinitydavison.org/event/work-bee-2/2026-01-06/
LOCATION:Trinity Lutheran Church\, 706 W Flint St\, Davison\, MI\, 48423\, United States
CATEGORIES:Ministry Teams
END:VEVENT
BEGIN:VEVENT
DTSTART;TZID=America/Detroit:20260107T090000
DTEND;TZID=America/Detroit:20260107T120000
DTSTAMP:20260421T222619
CREATED:20251113T171705Z
LAST-MODIFIED:20251119T191000Z
UID:10007987-1767776400-1767787200@trinitydavison.org
SUMMARY:Trinity Quilters
DESCRIPTION: 
URL:https://trinitydavison.org/event/trinity-quilters-4/2026-01-07/
LOCATION:MI
END:VEVENT
BEGIN:VEVENT
DTSTART;TZID=America/Detroit:20260108T130000
DTEND;TZID=America/Detroit:20260108T140000
DTSTAMP:20260421T222619
CREATED:20231207T142208Z
LAST-MODIFIED:20231207T143008Z
UID:10002899-1767877200-1767880800@trinitydavison.org
SUMMARY:Upper Room Prayer Group
DESCRIPTION:Philippians 4:6–7 (ESV) 6 do not be anxious about anything\, but in everything by prayer and supplication with thanksgiving let your requests be made known to God. 7 And the peace of God\, which surpasses all understanding\, will guard your hearts and your minds in Christ Jesus. \n\n\n\n\n\n\n\nGod’s people at Trinity Lutheran Church are a praying people. Prayer takes place in all of our worship services\, our meetings\, and our classes. Individually\, it takes place in our homes throughout the week. \n\n\n\nEach Thursday afternoon\, the Upper Room Prayer Group is a place where prayer continues among those who gather. If you need prayer\, or if you would like to gather for a time of encouraging prayer with others\, we welcome you. Come as you are. You need not be a member of our church\, but a believer in prayer and a member of God’s family.
URL:https://trinitydavison.org/event/upper-room-prayer-group-3/2026-01-08/
LOCATION:Trinity Lutheran Church\, 706 W Flint St\, Davison\, MI\, 48423\, United States
CATEGORIES:Fellowship,Front Page
ATTACH;FMTTYPE=image/jpeg:https://trinitydavison.org/wp-content/uploads/2022/11/Upper-Room-16_9.jpg
END:VEVENT
BEGIN:VEVENT
DTSTART;TZID=America/Detroit:20260110T083000
DTEND;TZID=America/Detroit:20260110T100000
DTSTAMP:20260421T222619
CREATED:20251217T190035Z
LAST-MODIFIED:20260203T194325Z
UID:10007322-1768033800-1768039200@trinitydavison.org
SUMMARY:Men's Fellowship Breakfast
DESCRIPTION:We look forward to welcoming you to our monthly Men’s Breakfast Fellowship. Men and boys of all ages are welcome to this free event that includes a hearty\, delicious breakfast\, and good conversations with other guys from all walks of life. Each time we meet we will conclude with a reading from the Bible\, a brief devotion\, and a prayer. \n\n\n\nThank you in advance for letting us know you’re coming . . . (this helps us make sure we have enough breakfast for everyone while not wasting good food by making too much). Thanks again! \n\n\n\nSee you Saturday morning at 8:30 a.m.
URL:https://trinitydavison.org/event/mens-breakfast-fellowship-3/2026-01-10/
LOCATION:Trinity Lutheran Church\, 706 W Flint St\, Davison\, MI\, 48423\, United States
END:VEVENT
BEGIN:VEVENT
DTSTART;TZID=America/Detroit:20260111T090000
DTEND;TZID=America/Detroit:20260111T095000
DTSTAMP:20260421T222619
CREATED:20251113T150352Z
LAST-MODIFIED:20251113T150352Z
UID:10007873-1768122000-1768125000@trinitydavison.org
SUMMARY:Adult Bible Study
DESCRIPTION:
URL:https://trinitydavison.org/event/adult-bible-study/2026-01-11/
LOCATION:Trinity Lutheran Church\, 706 W Flint St\, Davison\, MI\, 48423\, United States
CATEGORIES:Bible Study,Education
END:VEVENT
BEGIN:VEVENT
DTSTART;TZID=America/Detroit:20260111T100000
DTEND;TZID=America/Detroit:20260111T111000
DTSTAMP:20260421T222619
CREATED:20251118T171434Z
LAST-MODIFIED:20251118T171437Z
UID:10007364-1768125600-1768129800@trinitydavison.org
SUMMARY:Worship
DESCRIPTION:We invite you to worship with us. During our time of worship we experience the Lord together through the reading of the Bible\, singing hymns\, prayer\, a sermon based on the teachings of the Bible\, and the celebration of Holy Communion. \n\n\n\nThis Week’s Worship\n\n\n\nSermon Theme:  Sermon Text:  Order of Worship Bulletin: Click Here to downloadProclaimer:   \n\n\n\nLive Stream\n\n\n\nThis service will also be live-streamed on our YouTube channel and on Facebook. \n\n\n\nLinks to our Worship Leader Schedules\n\n\n\nAcolytesEldersLectorsS.A.L.T.Ushers
URL:https://trinitydavison.org/event/worship-15-2-2/2026-01-11/
LOCATION:Trinity Lutheran Church\, 706 W Flint St\, Davison\, MI\, 48423\, United States
CATEGORIES:Front Page,Worship
ATTACH;FMTTYPE=image/jpeg:https://trinitydavison.org/wp-content/uploads/2022/11/Worship-16_9-1.jpg
END:VEVENT
BEGIN:VEVENT
DTSTART;TZID=America/Detroit:20260111T111500
DTEND;TZID=America/Detroit:20260111T121500
DTSTAMP:20260421T222619
CREATED:20251230T161018Z
LAST-MODIFIED:20251230T163054Z
UID:10008810-1768130100-1768133700@trinitydavison.org
SUMMARY:Sunday School
DESCRIPTION:You are never too young or too old to study the Word of God. Every week at Trinity Lutheran Church we offer Sunday school classes for all ages. We look forward to you attending one of our classes this Sunday!
URL:https://trinitydavison.org/event/sunday-school-4/2026-01-11/
LOCATION:Trinity Lutheran Church\, 706 W Flint St\, Davison\, MI\, 48423\, United States
CATEGORIES:Front Page
ATTACH;FMTTYPE=image/jpeg:https://trinitydavison.org/wp-content/uploads/2025/11/heart_26893ac-scaled.jpg
ORGANIZER;CN="Vicki DeLay":MAILTO:vmomdelay@aol.com
END:VEVENT
BEGIN:VEVENT
DTSTART;TZID=America/Detroit:20260111T111500
DTEND;TZID=America/Detroit:20260111T121500
DTSTAMP:20260421T222619
CREATED:20251230T170152Z
LAST-MODIFIED:20260102T150319Z
UID:10008829-1768130100-1768133700@trinitydavison.org
SUMMARY:Faith Basics
DESCRIPTION:Lutheran theology has a rich and deeply rooted in the Bible. “Faith Basics” is an 8-session course which begins to dig into the doctrines of Lutheran Theology.  \n\n\n\nThe course is highly conversational with a presentation led by Pastor Frusti and review of the week’s completed homework assignment. \n\n\n\nWhether you are new to Lutheranism\, would like to learn more about Trinity Lutheran Church\, or are a life-long member of Lutheran congregations\, you will discover something new about theology in each session of “Faith Basics”! \n\n\n\nFor more information and to register\, contact the church office. \n\n\n\nLet us know you are attending – Sign up below:\n\n\n\nNameEmail*Message*EmailSubmit\nPlease enable JavaScript in your browser to submit the form
URL:https://trinitydavison.org/event/faith-basics-5/2026-01-11/
LOCATION:Trinity Lutheran Church\, 706 W Flint St\, Davison\, MI\, 48423\, United States
CATEGORIES:Front Page
ATTACH;FMTTYPE=image/jpeg:https://trinitydavison.org/wp-content/uploads/2022/12/Faith-Basics-16_9.001.jpeg
ORGANIZER;CN="Pastor Todd I. Frusti":MAILTO:tfrusti@trinitydavison.org
END:VEVENT
BEGIN:VEVENT
DTSTART;TZID=America/Detroit:20260111T130000
DTEND;TZID=America/Detroit:20260111T150000
DTSTAMP:20260421T222619
CREATED:20231207T192518Z
LAST-MODIFIED:20231207T193354Z
UID:10003118-1768136400-1768143600@trinitydavison.org
SUMMARY:Grief Share
DESCRIPTION:You do not need to grieve alone. Trinity’s GriefShare ministry offers grief support groups where you can be encouraged\, cared for\, listened to\, and prayed for. At GriefShare you will find others who are experiencing grief also. \n\n\n\nWhat Happens At GriefShare?\n\n\n\nAt a weekly GriefShare meeting\, group participants will view a video featuring respected counselors\, teachers\, and healthcare professionals on grief-related topics. After that is a small-group discussion to allow people a time of sharing\, support\, and personal application of what they learned on the video. Group participants will receive a book to take home filled with valuable exercises for navigating their personal grieving process. \n\n\n\nHow Much Does GriefShare Cost?\n\n\n\n\n\n\n\nThere is no cost to attend GriefShare. This is our gift to help our neighbors in the local community. All of the materials that you receive at GriefShare are also free. Of course\, donations to future GriefShare expenses are welcome and can be made to “Trinity Lutheran Church”. \n\n\n\nDo I Have to Register?\n\n\n\nNo. You can attend a GriefShare session at any time. If you are new\, you are welcome to call the church office ahead of time to confirm that GriefShare is meeting and give us an opportunity to notify you in the unlikely event that the session is cancelled or rescheduled. \n\n\n\nWhere Does GriefShare Meet?\n\n\n\nGriefShare meets in what is known as the “Titus Room”.  \n\n\n\nWhen you arrive\, enter through the north doors just off the church parking lot. Inside the church walk straight down the long hallway. You will pass a coffee pot and water fountain. At the end of the hallway\, turn left. The Titus Room will be the second door on your right. \n\n\n\n“Blessed are those who mourn for they will be comforted” (Matthew 5:4).
URL:https://trinitydavison.org/event/grief-share-2/2026-01-11/
LOCATION:Trinity Lutheran Church\, 706 W Flint St\, Davison\, MI\, 48423\, United States
CATEGORIES:Community Outreach,Front Page
ATTACH;FMTTYPE=image/jpeg:https://trinitydavison.org/wp-content/uploads/2021/09/GreifShare.jpg
END:VEVENT
BEGIN:VEVENT
DTSTART;TZID=America/Detroit:20260113T130000
DTEND;TZID=America/Detroit:20260113T143000
DTSTAMP:20260421T222619
CREATED:20251217T193315Z
LAST-MODIFIED:20251217T193515Z
UID:10008660-1768309200-1768314600@trinitydavison.org
SUMMARY:Ladies Guild
DESCRIPTION: 
URL:https://trinitydavison.org/event/ladies-guild-2-2/2026-01-13/
LOCATION:Trinity Lutheran Church\, 706 W Flint St\, Davison\, MI\, 48423\, United States
END:VEVENT
BEGIN:VEVENT
DTSTART;TZID=America/Detroit:20260113T160000
DTEND;TZID=America/Detroit:20260113T173000
DTSTAMP:20260421T222619
CREATED:20260102T142657Z
LAST-MODIFIED:20260102T142712Z
UID:10005870-1768320000-1768325400@trinitydavison.org
SUMMARY:Board of Elders
DESCRIPTION:Trinity’s Board of Elders meets on a monthly basis to work with and assist the pastors in providing spiritual leadership to the congregation.
URL:https://trinitydavison.org/event/board-of-elders-12/2026-01-13/
LOCATION:Trinity Lutheran Church\, 706 W Flint St\, Davison\, MI\, 48423\, United States
ATTACH;FMTTYPE=image/jpeg:https://trinitydavison.org/wp-content/uploads/2024/09/bible_25858ac.jpg
END:VEVENT
BEGIN:VEVENT
DTSTART;TZID=America/Detroit:20260114T090000
DTEND;TZID=America/Detroit:20260114T120000
DTSTAMP:20260421T222619
CREATED:20251113T171705Z
LAST-MODIFIED:20251119T191000Z
UID:10007988-1768381200-1768392000@trinitydavison.org
SUMMARY:Trinity Quilters
DESCRIPTION: 
URL:https://trinitydavison.org/event/trinity-quilters-4/2026-01-14/
LOCATION:MI
END:VEVENT
BEGIN:VEVENT
DTSTART;TZID=America/Detroit:20260115T130000
DTEND;TZID=America/Detroit:20260115T140000
DTSTAMP:20260421T222619
CREATED:20231207T142208Z
LAST-MODIFIED:20231207T143008Z
UID:10002900-1768482000-1768485600@trinitydavison.org
SUMMARY:Upper Room Prayer Group
DESCRIPTION:Philippians 4:6–7 (ESV) 6 do not be anxious about anything\, but in everything by prayer and supplication with thanksgiving let your requests be made known to God. 7 And the peace of God\, which surpasses all understanding\, will guard your hearts and your minds in Christ Jesus. \n\n\n\n\n\n\n\nGod’s people at Trinity Lutheran Church are a praying people. Prayer takes place in all of our worship services\, our meetings\, and our classes. Individually\, it takes place in our homes throughout the week. \n\n\n\nEach Thursday afternoon\, the Upper Room Prayer Group is a place where prayer continues among those who gather. If you need prayer\, or if you would like to gather for a time of encouraging prayer with others\, we welcome you. Come as you are. You need not be a member of our church\, but a believer in prayer and a member of God’s family.
URL:https://trinitydavison.org/event/upper-room-prayer-group-3/2026-01-15/
LOCATION:Trinity Lutheran Church\, 706 W Flint St\, Davison\, MI\, 48423\, United States
CATEGORIES:Fellowship,Front Page
ATTACH;FMTTYPE=image/jpeg:https://trinitydavison.org/wp-content/uploads/2022/11/Upper-Room-16_9.jpg
END:VEVENT
BEGIN:VEVENT
DTSTART;TZID=America/Detroit:20260118T090000
DTEND;TZID=America/Detroit:20260118T095000
DTSTAMP:20260421T222619
CREATED:20251113T150352Z
LAST-MODIFIED:20251113T150352Z
UID:10007874-1768726800-1768729800@trinitydavison.org
SUMMARY:Adult Bible Study
DESCRIPTION:
URL:https://trinitydavison.org/event/adult-bible-study/2026-01-18/
LOCATION:Trinity Lutheran Church\, 706 W Flint St\, Davison\, MI\, 48423\, United States
CATEGORIES:Bible Study,Education
END:VEVENT
BEGIN:VEVENT
DTSTART;TZID=America/Detroit:20260118T100000
DTEND;TZID=America/Detroit:20260118T111000
DTSTAMP:20260421T222619
CREATED:20251118T171434Z
LAST-MODIFIED:20251118T171437Z
UID:10007365-1768730400-1768734600@trinitydavison.org
SUMMARY:Worship
DESCRIPTION:We invite you to worship with us. During our time of worship we experience the Lord together through the reading of the Bible\, singing hymns\, prayer\, a sermon based on the teachings of the Bible\, and the celebration of Holy Communion. \n\n\n\nThis Week’s Worship\n\n\n\nSermon Theme:  Sermon Text:  Order of Worship Bulletin: Click Here to downloadProclaimer:   \n\n\n\nLive Stream\n\n\n\nThis service will also be live-streamed on our YouTube channel and on Facebook. \n\n\n\nLinks to our Worship Leader Schedules\n\n\n\nAcolytesEldersLectorsS.A.L.T.Ushers
URL:https://trinitydavison.org/event/worship-15-2-2/2026-01-18/
LOCATION:Trinity Lutheran Church\, 706 W Flint St\, Davison\, MI\, 48423\, United States
CATEGORIES:Front Page,Worship
ATTACH;FMTTYPE=image/jpeg:https://trinitydavison.org/wp-content/uploads/2022/11/Worship-16_9-1.jpg
END:VEVENT
BEGIN:VEVENT
DTSTART;TZID=America/Detroit:20260118T111500
DTEND;TZID=America/Detroit:20260118T121500
DTSTAMP:20260421T222619
CREATED:20251230T161018Z
LAST-MODIFIED:20251230T163054Z
UID:10008811-1768734900-1768738500@trinitydavison.org
SUMMARY:Sunday School
DESCRIPTION:You are never too young or too old to study the Word of God. Every week at Trinity Lutheran Church we offer Sunday school classes for all ages. We look forward to you attending one of our classes this Sunday!
URL:https://trinitydavison.org/event/sunday-school-4/2026-01-18/
LOCATION:Trinity Lutheran Church\, 706 W Flint St\, Davison\, MI\, 48423\, United States
CATEGORIES:Front Page
ATTACH;FMTTYPE=image/jpeg:https://trinitydavison.org/wp-content/uploads/2025/11/heart_26893ac-scaled.jpg
ORGANIZER;CN="Vicki DeLay":MAILTO:vmomdelay@aol.com
END:VEVENT
BEGIN:VEVENT
DTSTART;TZID=America/Detroit:20260118T111500
DTEND;TZID=America/Detroit:20260118T121500
DTSTAMP:20260421T222619
CREATED:20251230T170152Z
LAST-MODIFIED:20260102T150319Z
UID:10008830-1768734900-1768738500@trinitydavison.org
SUMMARY:Faith Basics
DESCRIPTION:Lutheran theology has a rich and deeply rooted in the Bible. “Faith Basics” is an 8-session course which begins to dig into the doctrines of Lutheran Theology.  \n\n\n\nThe course is highly conversational with a presentation led by Pastor Frusti and review of the week’s completed homework assignment. \n\n\n\nWhether you are new to Lutheranism\, would like to learn more about Trinity Lutheran Church\, or are a life-long member of Lutheran congregations\, you will discover something new about theology in each session of “Faith Basics”! \n\n\n\nFor more information and to register\, contact the church office. \n\n\n\nLet us know you are attending – Sign up below:\n\n\n\nNameEmail*Message*EmailSubmit\nPlease enable JavaScript in your browser to submit the form
URL:https://trinitydavison.org/event/faith-basics-5/2026-01-18/
LOCATION:Trinity Lutheran Church\, 706 W Flint St\, Davison\, MI\, 48423\, United States
CATEGORIES:Front Page
ATTACH;FMTTYPE=image/jpeg:https://trinitydavison.org/wp-content/uploads/2022/12/Faith-Basics-16_9.001.jpeg
ORGANIZER;CN="Pastor Todd I. Frusti":MAILTO:tfrusti@trinitydavison.org
END:VEVENT
BEGIN:VEVENT
DTSTART;TZID=America/Detroit:20260118T130000
DTEND;TZID=America/Detroit:20260118T150000
DTSTAMP:20260421T222619
CREATED:20231207T192518Z
LAST-MODIFIED:20231207T193354Z
UID:10003119-1768741200-1768748400@trinitydavison.org
SUMMARY:Grief Share
DESCRIPTION:You do not need to grieve alone. Trinity’s GriefShare ministry offers grief support groups where you can be encouraged\, cared for\, listened to\, and prayed for. At GriefShare you will find others who are experiencing grief also. \n\n\n\nWhat Happens At GriefShare?\n\n\n\nAt a weekly GriefShare meeting\, group participants will view a video featuring respected counselors\, teachers\, and healthcare professionals on grief-related topics. After that is a small-group discussion to allow people a time of sharing\, support\, and personal application of what they learned on the video. Group participants will receive a book to take home filled with valuable exercises for navigating their personal grieving process. \n\n\n\nHow Much Does GriefShare Cost?\n\n\n\n\n\n\n\nThere is no cost to attend GriefShare. This is our gift to help our neighbors in the local community. All of the materials that you receive at GriefShare are also free. Of course\, donations to future GriefShare expenses are welcome and can be made to “Trinity Lutheran Church”. \n\n\n\nDo I Have to Register?\n\n\n\nNo. You can attend a GriefShare session at any time. If you are new\, you are welcome to call the church office ahead of time to confirm that GriefShare is meeting and give us an opportunity to notify you in the unlikely event that the session is cancelled or rescheduled. \n\n\n\nWhere Does GriefShare Meet?\n\n\n\nGriefShare meets in what is known as the “Titus Room”.  \n\n\n\nWhen you arrive\, enter through the north doors just off the church parking lot. Inside the church walk straight down the long hallway. You will pass a coffee pot and water fountain. At the end of the hallway\, turn left. The Titus Room will be the second door on your right. \n\n\n\n“Blessed are those who mourn for they will be comforted” (Matthew 5:4).
URL:https://trinitydavison.org/event/grief-share-2/2026-01-18/
LOCATION:Trinity Lutheran Church\, 706 W Flint St\, Davison\, MI\, 48423\, United States
CATEGORIES:Community Outreach,Front Page
ATTACH;FMTTYPE=image/jpeg:https://trinitydavison.org/wp-content/uploads/2021/09/GreifShare.jpg
END:VEVENT
BEGIN:VEVENT
DTSTART;TZID=America/Detroit:20260119T180000
DTEND;TZID=America/Detroit:20260119T190000
DTSTAMP:20260421T222619
CREATED:20250611T162851Z
LAST-MODIFIED:20260128T191144Z
UID:10007076-1768845600-1768849200@trinitydavison.org
SUMMARY:Men's Bible Study
DESCRIPTION:Men of all ages are invited to join us for the study of God’s Word. We meet in the Titus Room on the first and third Mondays of each month.
URL:https://trinitydavison.org/event/mens-bible-study-22/2026-01-19/
LOCATION:Trinity Lutheran Church\, 706 W Flint St\, Davison\, MI\, 48423\, United States
CATEGORIES:Front Page,Men's Bible Study
END:VEVENT
BEGIN:VEVENT
DTSTART;TZID=America/Detroit:20260120T090000
DTEND;TZID=America/Detroit:20260120T110000
DTSTAMP:20260421T222619
CREATED:20231220T151645Z
LAST-MODIFIED:20231220T151653Z
UID:10000940-1768899600-1768906800@trinitydavison.org
SUMMARY:Workbee
DESCRIPTION:
URL:https://trinitydavison.org/event/workbee-2/2026-01-20/
LOCATION:Trinity Lutheran Church\, 706 W Flint St\, Davison\, MI\, 48423\, United States
CATEGORIES:Ministry Teams
ATTACH;FMTTYPE=image/jpeg:https://trinitydavison.org/wp-content/uploads/2023/12/tools_20712c-scaled.jpg
END:VEVENT
BEGIN:VEVENT
DTSTART;TZID=America/Detroit:20260121T090000
DTEND;TZID=America/Detroit:20260121T120000
DTSTAMP:20260421T222619
CREATED:20251113T171705Z
LAST-MODIFIED:20251119T191000Z
UID:10007989-1768986000-1768996800@trinitydavison.org
SUMMARY:Trinity Quilters
DESCRIPTION: 
URL:https://trinitydavison.org/event/trinity-quilters-4/2026-01-21/
LOCATION:MI
END:VEVENT
BEGIN:VEVENT
DTSTART;TZID=America/Detroit:20260122T123000
DTEND;TZID=America/Detroit:20260122T180000
DTSTAMP:20260421T222619
CREATED:20251118T151236Z
LAST-MODIFIED:20251125T173836Z
UID:10006392-1769085000-1769104800@trinitydavison.org
SUMMARY:Blood Drive
DESCRIPTION:The next Blood Drive will take place on THURSDAY\, January 22\, 2026\, from 12:30 P.M. until 6 p.m. Schedule your appointment with the Red Cross at redcrossblood.org. \n\n\n\n 
URL:https://trinitydavison.org/event/blood-drive/
LOCATION:MI
ATTACH;FMTTYPE=image/jpeg:https://trinitydavison.org/wp-content/uploads/2024/12/ARC-Blood.jpg
END:VEVENT
BEGIN:VEVENT
DTSTART;TZID=America/Detroit:20260122T130000
DTEND;TZID=America/Detroit:20260122T140000
DTSTAMP:20260421T222619
CREATED:20231207T142208Z
LAST-MODIFIED:20231207T143008Z
UID:10002901-1769086800-1769090400@trinitydavison.org
SUMMARY:Upper Room Prayer Group
DESCRIPTION:Philippians 4:6–7 (ESV) 6 do not be anxious about anything\, but in everything by prayer and supplication with thanksgiving let your requests be made known to God. 7 And the peace of God\, which surpasses all understanding\, will guard your hearts and your minds in Christ Jesus. \n\n\n\n\n\n\n\nGod’s people at Trinity Lutheran Church are a praying people. Prayer takes place in all of our worship services\, our meetings\, and our classes. Individually\, it takes place in our homes throughout the week. \n\n\n\nEach Thursday afternoon\, the Upper Room Prayer Group is a place where prayer continues among those who gather. If you need prayer\, or if you would like to gather for a time of encouraging prayer with others\, we welcome you. Come as you are. You need not be a member of our church\, but a believer in prayer and a member of God’s family.
URL:https://trinitydavison.org/event/upper-room-prayer-group-3/2026-01-22/
LOCATION:Trinity Lutheran Church\, 706 W Flint St\, Davison\, MI\, 48423\, United States
CATEGORIES:Fellowship,Front Page
ATTACH;FMTTYPE=image/jpeg:https://trinitydavison.org/wp-content/uploads/2022/11/Upper-Room-16_9.jpg
END:VEVENT
BEGIN:VEVENT
DTSTART;TZID=America/Detroit:20260125T090000
DTEND;TZID=America/Detroit:20260125T095000
DTSTAMP:20260421T222619
CREATED:20251113T150352Z
LAST-MODIFIED:20251113T150352Z
UID:10007875-1769331600-1769334600@trinitydavison.org
SUMMARY:Adult Bible Study
DESCRIPTION:
URL:https://trinitydavison.org/event/adult-bible-study/2026-01-25/
LOCATION:Trinity Lutheran Church\, 706 W Flint St\, Davison\, MI\, 48423\, United States
CATEGORIES:Bible Study,Education
END:VEVENT
BEGIN:VEVENT
DTSTART;TZID=America/Detroit:20260125T100000
DTEND;TZID=America/Detroit:20260125T111000
DTSTAMP:20260421T222619
CREATED:20251118T171434Z
LAST-MODIFIED:20251118T171437Z
UID:10007366-1769335200-1769339400@trinitydavison.org
SUMMARY:Worship
DESCRIPTION:We invite you to worship with us. During our time of worship we experience the Lord together through the reading of the Bible\, singing hymns\, prayer\, a sermon based on the teachings of the Bible\, and the celebration of Holy Communion. \n\n\n\nThis Week’s Worship\n\n\n\nSermon Theme:  Sermon Text:  Order of Worship Bulletin: Click Here to downloadProclaimer:   \n\n\n\nLive Stream\n\n\n\nThis service will also be live-streamed on our YouTube channel and on Facebook. \n\n\n\nLinks to our Worship Leader Schedules\n\n\n\nAcolytesEldersLectorsS.A.L.T.Ushers
URL:https://trinitydavison.org/event/worship-15-2-2/2026-01-25/
LOCATION:Trinity Lutheran Church\, 706 W Flint St\, Davison\, MI\, 48423\, United States
CATEGORIES:Front Page,Worship
ATTACH;FMTTYPE=image/jpeg:https://trinitydavison.org/wp-content/uploads/2022/11/Worship-16_9-1.jpg
END:VEVENT
BEGIN:VEVENT
DTSTART;TZID=America/Detroit:20260125T111500
DTEND;TZID=America/Detroit:20260125T121500
DTSTAMP:20260421T222619
CREATED:20251230T161018Z
LAST-MODIFIED:20251230T163054Z
UID:10008812-1769339700-1769343300@trinitydavison.org
SUMMARY:Sunday School
DESCRIPTION:You are never too young or too old to study the Word of God. Every week at Trinity Lutheran Church we offer Sunday school classes for all ages. We look forward to you attending one of our classes this Sunday!
URL:https://trinitydavison.org/event/sunday-school-4/2026-01-25/
LOCATION:Trinity Lutheran Church\, 706 W Flint St\, Davison\, MI\, 48423\, United States
CATEGORIES:Front Page
ATTACH;FMTTYPE=image/jpeg:https://trinitydavison.org/wp-content/uploads/2025/11/heart_26893ac-scaled.jpg
ORGANIZER;CN="Vicki DeLay":MAILTO:vmomdelay@aol.com
END:VEVENT
END:VCALENDAR